BEGIN:VCALENDAR
VERSION:2.0
PRODID:-//wp-events-plugin.com//7.2.3.1//EN
TZID:Europe/Berlin
X-WR-TIMEZONE:Europe/Berlin
BEGIN:VEVENT
UID:6192@rauszeit-termine.org
DTSTART:20200401T170000Z
DTEND:20200401T190000Z
DTSTAMP:20200331T104847Z
URL:https://rauszeit-termine.org/events/lesung-karen-susan-fessel-liest-au
 s-mutter-zieht-aus/
SUMMARY:+++Abgesagt+++ Lesung: Karen-Susan Fessel liest aus: „In die Welt
 “ - Neuerscheinung
DESCRIPTION:+++Veranstaltung wird abgesagt+++\n\n+++ neuer Termin +++\n\nWo
  will ich leben\, wenn ich älter werde – und mit wem? Diese Fragen bewe
 gen die meisten Menschen spätestens dann\, wenn die Jugend allmählich un
 widerruflich zurückliegt und die ersten Weichen schon längst gestellt si
 nd - vor allem in heutigen Zeiten\, in denen der Begriff Heimat geradezu e
 xplosiv aufgeladen scheint und immer wieder neu diskutiert wird.\n\nAuch d
 ie Kartographin Nell\, von Kindheit an ein nomadenhaftes Umherziehen gewö
 hnt\, aber seit langem in Berlin heimisch\, muss sich noch einmal neu aufs
 tellen. Als ihre Lebensgefährtin sie nach zwölf Jahren plötzlich verlä
 sst\, flüchtet Nell in die Kleinstadt\, in der sich ihre Mutter kürzlich
  niedergelassen hat. Aber dort ist sie nicht die Einzige\, die nach ihrem 
 Platz im Leben sucht: Der benachbarte Zimmermann Louis trägt sein ganz ei
 genes Geheimnis mit sich herum\, und Beate\, frisch zugezogene Geschäftsf
 ührerin des Hotels gegenüber\, sehnt sich nicht nur nach neuen Perspekti
 ven. Zwischen den drei Protagonisten entspinnt sich ein fragiles Beziehung
 sgeflecht\, das unerwartet auf die Probe gestellt wird …\n\n„In die We
 lt“\, der langerwartete neue Roman von Karen-Susan Fessel\, einer der wi
 chtigsten weiblichen Stimmen der deutschen Gegenwartsliteratur\, zeichnet 
 auf knapp 450 Seiten in epischer Weise die verschachtelten Lebenswege drei
 er ganz unterschiedlicher Charaktere nach\, die sich gezwungen sehen\, ihr
 e bisherigen Lebensentwürfe noch einmal in Frage zu stellen und auch die 
 Freiheiten der Großstadt gegen die Sicherheiten des Kleinstadtlebens gege
 neinander abzuwägen.\n\nNachdem Karen-Susan Fessel in den letzten Jahren 
 vorrangig mit ihren Kinder- und Jugendbüchern ("Ein Stern namens Mama"\, 
 "Liebe macht Anders") Aufsehen erregt und in ihrem letzten (auto-)biografi
 schen Roman „Mutter zieht aus“ (2018) die Generation der Kriegskinder 
 in den Fokus genommen hat\, schlägt die Berliner Autorin in ihrem neuen W
 erk ganz neue\, nachdenklich machende Töne an. Der in ungewöhnlicher Erz
 ähltechnik komponierte Roman entwickelt einen fast rauschhaften Sog\, der
  die Leserschaft unweigerlich in seinen Bann ziehen wird.\n\nKaren-Susan F
 essel\, *1964\, lebt und arbeitet in Berlin. Seit 1994 sind mehr als drei
 ßig Romane und Erzählungen für Erwachsene\, Jugendliche und Kinder ents
 tanden\, von denen einige vielfach ausgezeichnet\, übersetzt und als Thea
 terstücke adaptiert wurden. Für ihre Verdienste um die Akzeptanz queerer
  Lebensentwürfe erhielt sie 2011 den Rosa-Courage-Preis. Für ihr literar
 isches Schaffen und ihr soziales Engagement wurde Karen-Susan Fessel im Fe
 bruar 2020 mit dem Bundesverdienstkreuz am Bande ausgezeichnet. Soeben ist
  auch eine umfangreiche Monografie zum kinder- und jugendliterarischen Wer
 k Karen-Susan Fessels erschienen: Petra Josting und Iris Kruse (Hrsg.): 
 „Karen-Susan Fessel – Bielefelder Poet in Residence 2018 | Paderborner
  Kinderliteraturtage 2019“. (Kopäd Verlag\, München 2020.)\n\n 	Eine V
 eranstaltung von LiN - Lesbisch* in Niedersachsen in Kooperation mit dem a
 ndersraum e.V. und dem CSD Hannover\n 	Eintritt frei\n
CATEGORIES:Lesung/Buchvorstellung,LGBT*I*Q
LOCATION:Andersraum\, Asternstr. 2\, Hannover\, Deutschland
X-APPLE-STRUCTURED-LOCATION;VALUE=URI;X-ADDRESS=Asternstr. 2\, Hannover\, D
 eutschland;X-APPLE-RADIUS=100;X-TITLE=Andersraum:geo:0,0
END:VEVENT
END:VCALENDAR