BEGIN:VCALENDAR
VERSION:2.0
PRODID:-//wp-events-plugin.com//7.2.3.1//EN
TZID:Europe/Berlin
X-WR-TIMEZONE:Europe/Berlin
BEGIN:VEVENT
UID:13650@rauszeit-termine.org
DTSTART;TZID=Europe/Berlin:20241001T174500
DTEND;TZID=Europe/Berlin:20241001T193000
DTSTAMP:20240921T102606Z
URL:https://rauszeit-termine.org/events/lesung-jonathan-eibisch-politische
 -theorie-des-anarchismus/
SUMMARY:Lesung: Jonathan Eibisch – Politische Theorie des Anarchismus
DESCRIPTION:Lesung: Jonathan Eibisch – Politische Theorie des Anarchismus
  \nAm 01. Oktober laden wir euch herzlich ein\, tiefer in die Ideen und K
 onzepte des Anarchismus einzutauchen. Jonathan Eibisch präsentiert sein B
 uch „Politische Theorie des Anarchismus – Zum paradoxen Streben nach A
 utonomie\, Selbstbestimmung und Selbstorganisation“. In seinem Werk zeig
 t er auf\, wie der vermeintlich widersprüchliche Umgang des Anarchismus m
 it Politik neue Wege eröffnet\, um auf gesellschaftliche Verhältnisse zu
  reagieren – und wie eine zeitgemäße politische Theorie des Anarchismu
 s aussehen kann.\nDatum: 01. OktoberOrt: UJZ Korn\, Kornstraße 28-30\, 30
 167 HannoverZeit: 17:45 – 19:30 Uhr\nKommt vorbei\, um mit uns neue Pers
 pektiven zu entdecken und spannende Diskussionen zu führen! Anarchistisc
 hes Kollektiv Hannover
ATTACH;FMTTYPE=image/jpeg:https://rauszeit-termine.org/wp-content/uploads/
 2024/09/akh.jpg
CATEGORIES:Lesung/Buchvorstellung
LOCATION:UJZ Korn\, Kornstraße 28-30\, Hannover\, Niedersachsen\, 30167\, 
 Hannover\, Deutschland
X-APPLE-STRUCTURED-LOCATION;VALUE=URI;X-ADDRESS=Kornstraße 28-30\, Hannove
 r\, Niedersachsen\, 30167\, Hannover\, Deutschland;X-APPLE-RADIUS=100;X-TI
 TLE=UJZ Korn:geo:0,0
END:VEVENT
BEGIN:VTIMEZONE
TZID:Europe/Berlin
X-LIC-LOCATION:Europe/Berlin
BEGIN:DAYLIGHT
DTSTART:20240331T030000
TZOFFSETFROM:+0100
TZOFFSETTO:+0200
TZNAME:CEST
END:DAYLIGHT
END:VTIMEZONE
END:VCALENDAR