BEGIN:VCALENDAR
VERSION:2.0
PRODID:-//wp-events-plugin.com//7.2.3.1//EN
TZID:Europe/Berlin
X-WR-TIMEZONE:Europe/Berlin
BEGIN:VEVENT
UID:156508@rauszeit-termine.org
DTSTART;TZID=Europe/Berlin:20260503T180000
DTEND;TZID=Europe/Berlin:20260503T200000
DTSTAMP:20260421T131410Z
URL:https://rauszeit-termine.org/events/latex-devils-dancer/
SUMMARY:Latex | Devils Dancer
DESCRIPTION:Another Crustpunx in Love Show\n03.05.26 | Stumpf | Doors 18:00
 \n&nbsp\;\n\nLATEX\n\nhttps://latexband.bandcamp.com\n\nDEVILS DANCERS\n\n
 https://devilsdancers.bandcamp.com/track/torx-demo-version
CATEGORIES:Sonstiges
LOCATION:Stumpf\, Welfengarten 2c\, Hannover\, Niedersachsen\, 30167\, Deut
 schland
X-APPLE-STRUCTURED-LOCATION;VALUE=URI;X-ADDRESS=Welfengarten 2c\, Hannover\
 , Niedersachsen\, 30167\, Deutschland;X-APPLE-RADIUS=100;X-TITLE=Stumpf:ge
 o:0,0
END:VEVENT
BEGIN:VTIMEZONE
TZID:Europe/Berlin
X-LIC-LOCATION:Europe/Berlin
BEGIN:DAYLIGHT
DTSTART:20260329T030000
TZOFFSETFROM:+0100
TZOFFSETTO:+0200
TZNAME:CEST
END:DAYLIGHT
END:VTIMEZONE
END:VCALENDAR