BEGIN:VCALENDAR
VERSION:2.0
PRODID:-//wp-events-plugin.com//7.2.3.1//EN
TZID:Europe/Berlin
X-WR-TIMEZONE:Europe/Berlin
BEGIN:VEVENT
UID:7185@rauszeit-termine.org
DTSTART;TZID=Europe/Berlin:20210410T120000
DTEND;TZID=Europe/Berlin:20210410T120000
DTSTAMP:20210407T222107Z
URL:https://rauszeit-termine.org/events/kundgebung-auch-in-krisen-menschen
 -vor-konzerne-im-rahmen-des-zerocovid-aktionstag/
SUMMARY:Kundgebung "Auch in Krisen\, Menschen vor Konzerne!" im Rahmen des 
 #ZeroCovid-Aktionstag
DESCRIPTION:Aus dem Aufruf zum Aktionstag:\n"Die 3. Welle der Pandemie roll
 t\, die Inzidenzen steigen\, Mutationen verbreiten sich rasant\, während 
 die Impfungen viel zu langsam vonstatten gehen. Die Wirtschaftslobby hat e
 inen breiten Lockerungs-Diskurs initiiert\, die Querdenker marschieren wie
 der\, publizistisch flankiert von konservativen und rechten Medien. Mit #Z
 eroCovid und einer solidarischen Auszeit der Wirtschaft könnten Tausende 
 weitere Tote\, viele Infizierte die anschließend unter LongCovid leiden\,
  und die autoritär-individualisierende Regulation der Pandemie verhindert
  werden.\n\nWir fordern: Drei Wochen bezahlte Pause statt dritter Welle! F
 ür eine Perspektive aus der Pandemie heraus braucht es einen Wechsel hin 
 zu einer langfristigen Strategie\, die das Infektionsgeschehen drastisch r
 eduziert\, bis neue Ausbrüche durch lokale Maßnahmen unterdrückt werden
  können. Für die beste Erfolgsaussicht müssen als erster Schritt die In
 fektionszahlen so schnell wie möglich gesenkt werden. Eine mehrwöchige A
 rbeitspause in der Wirtschaft ist jetzt unausweichlich\, um möglichst vie
 le Menschenleben zu retten und gesundheitliche Spätfolgen zu vermeiden. [
 ...]"\n\n-- Mehr hier: --\n#ZeroCovid-Aktionstag mit Online-Demo: https://
 zero-covid.org/actionday/\nKundgebung "Auch in Krisen\, Menschen vor Konze
 rne!": https://www.instagram.com/p/CNTKbBHJR2c/\n
CATEGORIES:Kundgebung
END:VEVENT
BEGIN:VTIMEZONE
TZID:Europe/Berlin
X-LIC-LOCATION:Europe/Berlin
BEGIN:DAYLIGHT
DTSTART:20210328T030000
TZOFFSETFROM:+0100
TZOFFSETTO:+0200
TZNAME:CEST
END:DAYLIGHT
END:VTIMEZONE
END:VCALENDAR