BEGIN:VCALENDAR
VERSION:2.0
PRODID:-//wp-events-plugin.com//7.2.3.1//EN
TZID:Europe/Berlin
X-WR-TIMEZONE:Europe/Berlin
BEGIN:VEVENT
UID:11409@rauszeit-termine.org
DTSTART;TZID=Europe/Berlin:20240712T180000
DTEND;TZID=Europe/Berlin:20240712T180000
DTSTAMP:20240621T215409Z
URL:https://rauszeit-termine.org/events/kueche-fuer-alle-in-der-wohnwelt-w
 unstorf-2024-07-12/
SUMMARY:Küche für Alle in der Wohnwelt Wunstorf
DESCRIPTION:Die KüfA (Küche für Alle) findet jeden Freitag ab 18 Uhr sta
 tt. Es wird jedes Mal veganes Essen gekocht\, bei dem ihr euch für 1.50
 € so viel nehmen könnt\, wie ihr möchtet.\n\nWie der Name auch bereits
  schon sagt\, ist hier jeder willkommen\, schließlich sollte jeder Mensch
  den Zugang zu einer warmen Mahlzeit haben.\n\nAuch wie bei der Kneipe am 
 Montag gibt es zudem auch noch eine Auswahl an verschiedenen Getränken un
 d natürlich stets eine nette Atmosphäre.\n\nWenn ihr Fragen oder Anmerku
 ngen habt\, könnte ihr uns gerne hier bei Instagram kontaktieren\, oder e
 infach mal vorbei kommen und uns ansprechen.\nWir freuen uns auf euch! :)
ATTACH;FMTTYPE=image/jpeg:https://rauszeit-termine.org/wp-content/uploads/
 2023/11/kuefa-wohnwelt.jpg
CATEGORIES:KüfA - Küche für Alle
LOCATION:Wohnwelt Wunstorf\, Bahnhofstraße 93\, Wunstorf\, 31515\, Deutsch
 land
X-APPLE-STRUCTURED-LOCATION;VALUE=URI;X-ADDRESS=Bahnhofstraße 93\, Wunstor
 f\, 31515\, Deutschland;X-APPLE-RADIUS=100;X-TITLE=Wohnwelt Wunstorf:geo:0
 ,0
END:VEVENT
BEGIN:VTIMEZONE
TZID:Europe/Berlin
X-LIC-LOCATION:Europe/Berlin
BEGIN:DAYLIGHT
DTSTART:20240331T030000
TZOFFSETFROM:+0100
TZOFFSETTO:+0200
TZNAME:CEST
END:DAYLIGHT
END:VTIMEZONE
END:VCALENDAR