BEGIN:VCALENDAR
VERSION:2.0
PRODID:-//wp-events-plugin.com//7.2.3.1//EN
TZID:Europe/Berlin
X-WR-TIMEZONE:Europe/Berlin
BEGIN:VEVENT
UID:156507@rauszeit-termine.org
DTSTART;TZID=Europe/Berlin:20260511T180000
DTEND;TZID=Europe/Berlin:20260511T200000
DTSTAMP:20260421T045022Z
URL:https://rauszeit-termine.org/events/krisenbuch-schule-ein-system-am-li
 mit/
SUMMARY:Krisenbuch Schule - ein System am Limit
DESCRIPTION:\n\n\n\nDie Schulen in Deutschland stehen vor massiven Probleme
 n\, wie z.B. dem gravierenden Personalmangel: Lehrkräfte\, Erzieherinnen 
 und Schulsozialarbeiterinnen arbeiten weit über ihre Belastungsgrenzen hi
 naus. Das „Krisenbuch Schule“ gibt Lehrer*innen\, Schüler*innen und a
 nderen Beteiligten eine Stimme und zeigt ein Bildungssystem am Rand der Er
 schöpfung. Zugleich entwirft es Perspektiven für eine zeitgemäße Schul
 e und beschreibt\, welche politischen Veränderungen nötig wären.Die Her
 ausgeberin Katrin Schäfgen wird wichtige Passagen aus dem Buch vorstellen
 . Anschließend besteht Gelegenheit zur Diskussion mit der Herausgeberin u
 nd der Bundestagsabgeordneten Maren Kaminski (Die Linke).\n\nDas Krisenbuc
 h Schule kann man übrigens auch heruntergeladen oder kostenfrei bestellt 
 werden: https://www.rosalux.de/publikation/id/53930/krisenbuch-schule\n\nE
 ine Veranstaltung des Rosa-Luxemburg-Clubs Hannover in Kooperation mit der
  Rosa-Luxemburg-Stiftung Niedersachsen und dem Kreisverband Hannover der G
 ewerkschaft Erziehung und Wissenschaft (GEW)\n\n\n\n
CATEGORIES:Sonstiges
LOCATION:GEW\, Berliner Allee 18\, Hannover\, 30175\, Deutschland
X-APPLE-STRUCTURED-LOCATION;VALUE=URI;X-ADDRESS=Berliner Allee 18\, Hannove
 r\, 30175\, Deutschland;X-APPLE-RADIUS=100;X-TITLE=GEW:geo:0,0
END:VEVENT
BEGIN:VTIMEZONE
TZID:Europe/Berlin
X-LIC-LOCATION:Europe/Berlin
BEGIN:DAYLIGHT
DTSTART:20260329T030000
TZOFFSETFROM:+0100
TZOFFSETTO:+0200
TZNAME:CEST
END:DAYLIGHT
END:VTIMEZONE
END:VCALENDAR