BEGIN:VCALENDAR
VERSION:2.0
PRODID:-//wp-events-plugin.com//7.2.3.1//EN
TZID:Europe/Berlin
X-WR-TIMEZONE:Europe/Berlin
BEGIN:VEVENT
UID:150151@rauszeit-termine.org
DTSTART;TZID=Europe/Berlin:20251015T195000
DTEND;TZID=Europe/Berlin:20251015T214500
DTSTAMP:20250914T190553Z
URL:https://rauszeit-termine.org/events/korn-kollaps-cafe-2/
SUMMARY:Korn Kollaps-Cafe
DESCRIPTION:Klima. Kollaps. Nazis. Trotzdem aufstehn.\nDas Kollaps-Café sc
 hafft einen geschützten Raum\, in dem Platz ist für eure Trauer und Wut\
 , für Ohnmacht und Erschöpfung\, für das Abschiednehmen von einer Vorst
 ellung von Zukunft\, die es nicht mehr geben wird. Einen Raum\, in dem auc
 h Platz ist für etwas neues\, trotz allem.\nEine Einladung von Menschen a
 us den ehemaligen Awareness-/Out-of-Action-Strukturen von Leinemasch BLEIB
 T und Psy4F.\nWANN/WO: Jeden zweiten Monat einmal mittwochs nach der Korn-
 Küfa\; 19.50 Uhr auf dem Dachboden. (Ab 20 Uhr ist es nicht mehr möglich
 \, dazuzukommen.)
ATTACH;FMTTYPE=image/jpeg:https://rauszeit-termine.org/wp-content/uploads/
 2025/09/kollaps-klima-sharepic-oktober.jpg
CATEGORIES:Austausch,Safer Space,Sonstiges
LOCATION:UJZ Korn\, Kornstraße 28-30\, Hannover\, Niedersachsen\, 30167\, 
 Hannover\, Deutschland
X-APPLE-STRUCTURED-LOCATION;VALUE=URI;X-ADDRESS=Kornstraße 28-30\, Hannove
 r\, Niedersachsen\, 30167\, Hannover\, Deutschland;X-APPLE-RADIUS=100;X-TI
 TLE=UJZ Korn:geo:0,0
END:VEVENT
BEGIN:VTIMEZONE
TZID:Europe/Berlin
X-LIC-LOCATION:Europe/Berlin
BEGIN:DAYLIGHT
DTSTART:20250330T030000
TZOFFSETFROM:+0100
TZOFFSETTO:+0200
TZNAME:CEST
END:DAYLIGHT
END:VTIMEZONE
END:VCALENDAR