BEGIN:VCALENDAR
VERSION:2.0
PRODID:-//wp-events-plugin.com//7.2.3.1//EN
TZID:Europe/Berlin
X-WR-TIMEZONE:Europe/Berlin
BEGIN:VEVENT
UID:7240@rauszeit-termine.org
DTSTART;TZID=Europe/Berlin:20210528T180000
DTEND;TZID=Europe/Berlin:20210528T200000
DTSTAMP:20210526T142842Z
URL:https://rauszeit-termine.org/events/kopi-bleibt/
SUMMARY:Kopi bleibt
DESCRIPTION:Hannovers Punx sitzen bald wieder auf der Straße Ist es das\, 
 was die Landeshauptstadt Hannover und das Eisenbahn-Bundesamt (EBA) wirkli
 ch wollen? Diese Frage stellen wir\, die Mitglieder des Lutherkirchentreff
 s e.V. uns bereits seit 3 Jahren. 2018 wurde uns erstmalig mitgeteilt\, da
 ss der Mietvertrag der Kopernikusstraße11 (besser bekannt unter dem Namen
  „Kopi“) ausgelaufen sei und es keine Verlängerung für das Projekt g
 eben könne. Gründe waren damals unklare Besitzverhältnisse\, Nutzungsge
 nehmigungen und Verwaltungsfehler der Stadt. 1996 wurde die Kopi als Reakt
 ion auf die sog. „Chaostage“ und auf Grund von mangelnden Räumen für
  perspektivlose Jugendliche in Hannover eröffnet. Eine Verdrängung der P
 unk-Szene aus dem öffentlichen Raum erschien Politiker*innen damals als n
 otwendig. Demzufolge wurde der Verein Lutherkirchentreff e.V. gegründet\,
  seit 2002 ist dieser sogar als freier Träger der Jugendhilfe anerkannt. 
 Durch die Akzeptanz in Stadt und Viertel\, sowie landesweiter Bekanntheit 
 in der Szene kann hier bei Konzerten oder dem wöchentlichen kostenlosen F
 rühstück eine individuelle\, niedrigschwellige Jugendhilfe angeboten wer
 den\, die gut angenommen und dringend benötigt wird. Die bisherigen Gespr
 äche mit der LHH\, vertreten durch die Dezernentin für Bildung\, Jugend 
 und Familie\, Frau Ryzski verliefen nicht nur durch die Coronapandemie sch
 leppend\, allerdings können bereits Teilerfolge verzeichnet werden. Die B
 eanstandungen in den Punkten Brandschutz und Statik werden wir in Eigenini
 tiative beheben\, sobald wir die mündlichvon Frau Rzyski zugesicherten F
 ördermittel erhalten haben.\n\nNun hat sich die Stadt Hannover bereiterkl
 ärt\, einen weiterführenden Mietvertrag für das Gelände zu unterschrei
 ben\, was allerdings von Seiten des EBA verweigert wird. Der Grund: Es sol
 l eventuell in ein paar Jahren eine angrenzende Brücke saniert werden.Die
 se Begründung erscheint uns mehr als fragwürdig\, zumal nicht nur in Han
 nover die Verdrängung und Zerstörung von alternativen\, linken Lebensrä
 umen während der Pandemie drastisch steigt (siehe z.B. Berlin\, Osnabrüc
 k\,..)\n\nDaher fordern wir:\n\n 	eine Duldung für weitere 3 Jahre und ei
 ne anschließende Verlängerung\, bis es offizielle Baupläne für das Gel
 ände der Kopernikusstraße 11 gibt\n 	die schriftliche Bestätigungen der
  uns zugesicherten Unterstützungsleistungen der LHH -die schriftliche Zus
 icherung\, dass im Falle einer Schließung übergangslos ein alternatives 
 Gelände im gleichen oder angrenzenden Stadtteil zur Verfügung gestellt w
 ird\n\nWir bedanken uns für die zugesicherte 100%ige Unterstützung unser
 es Oberbürgermeisters Belit Onay und den meisten Fraktionen der LHH (Zita
 t Dezernentin am 26.4.21). Doch nun müssen Taten folgen.\n\nDass wir Hand
 lungsfähig sind\, haben wir bereits die letzten 25 Jahre bewiesen. Dass w
 ir nicht nur einige (Alt-)Punker*innen sind\, konnten sowohl die Dezernent
 in Frau Ryzski und die verschiedenen Vertreter*innen der Straßensozialarb
 eit\, des Jugendamts und der Jugendarbeit\, als auch die Teilnehmer*innen 
 des Jugendhilfeausschusses bei unseren gemeinsamen Terminen am 21.04.21 un
 d am 26.04.21 miterleben. Wir werden weiter mobilisieren und uns nicht sti
 ll und leise vertreiben lassen! Betroffen sind einige\, gemeint sind wir a
 lle!\n\n
ATTACH;FMTTYPE=image/jpeg:https://rauszeit-termine.org/wp-content/uploads/
 2021/05/1621882359.jpg
CATEGORIES:Demo
LOCATION:Lutherkirche\, An der Lutherkirche 20\, Hannover\, Deutschland
X-APPLE-STRUCTURED-LOCATION;VALUE=URI;X-ADDRESS=An der Lutherkirche 20\, Ha
 nnover\, Deutschland;X-APPLE-RADIUS=100;X-TITLE=Lutherkirche:geo:0,0
END:VEVENT
BEGIN:VTIMEZONE
TZID:Europe/Berlin
X-LIC-LOCATION:Europe/Berlin
BEGIN:DAYLIGHT
DTSTART:20210328T030000
TZOFFSETFROM:+0100
TZOFFSETTO:+0200
TZNAME:CEST
END:DAYLIGHT
END:VTIMEZONE
END:VCALENDAR