BEGIN:VCALENDAR
VERSION:2.0
PRODID:-//wp-events-plugin.com//7.2.3.1//EN
TZID:Europe/Berlin
X-WR-TIMEZONE:Europe/Berlin
BEGIN:VEVENT
UID:147238@rauszeit-termine.org
DTSTART;TZID=Europe/Berlin:20250419T150000
DTEND;TZID=Europe/Berlin:20250419T150000
DTSTAMP:20250418T100752Z
URL:https://rauszeit-termine.org/events/kopi-bleibt-demo/
SUMMARY:KOPI BLEIBT! Demo
DESCRIPTION:FUTURE for KOPI ! \nDen Kampf der KOPI um ihren Erhalt trotz fe
 hlendem Mietvertrag haben wir ja bereits mehrfach hier dargestellt\, zulet
 zt gab es zusätzlich vermehrt Fascho-Angriffe/Einbrüche. Deshalb gilt um
 so mehr: SOLIDARITÄT zeigen!\nNun lädt die KOPI wieder zur Demo\, die be
 reits zahlreich in unserem Viertel plakatiert wurde.\n\nSA 19.4.25 15:00 S
 tart am Ernst-August Platz\nAbschlusskundgebung: Lutherkirche \nDanach: Kr
 ach & Konzert in der KOPI \nFür den Erhalt subkultureller Freiräume !\nK
 OPI BLEIBT !
ATTACH;FMTTYPE=image/jpeg:https://rauszeit-termine.org/wp-content/uploads/
 2025/04/kopi.jpg
CATEGORIES:Demo
LOCATION:Ernst-August-Platz\, Ernst-August-Platz\, Hannover\, Deutschland
X-APPLE-STRUCTURED-LOCATION;VALUE=URI;X-ADDRESS=Ernst-August-Platz\, Hannov
 er\, Deutschland;X-APPLE-RADIUS=100;X-TITLE=Ernst-August-Platz:geo:0,0
END:VEVENT
BEGIN:VTIMEZONE
TZID:Europe/Berlin
X-LIC-LOCATION:Europe/Berlin
BEGIN:DAYLIGHT
DTSTART:20250330T030000
TZOFFSETFROM:+0100
TZOFFSETTO:+0200
TZNAME:CEST
END:DAYLIGHT
END:VTIMEZONE
END:VCALENDAR