BEGIN:VCALENDAR
VERSION:2.0
PRODID:-//wp-events-plugin.com//7.2.3.1//EN
TZID:Europe/Berlin
X-WR-TIMEZONE:Europe/Berlin
BEGIN:VEVENT
UID:147206@rauszeit-termine.org
DTSTART;TZID=Europe/Berlin:20250404T200000
DTEND;TZID=Europe/Berlin:20250404T234500
DTSTAMP:20250404T070648Z
URL:https://rauszeit-termine.org/events/kopernikuskonzert-vitamin-x-abrupt
 -gaygasm-umverlegt/
SUMMARY:Kopernikuskonzert: Vitamin X - Abrupt - Gaygasm (Umverlegt!!!)
DESCRIPTION:DnT &amp\; Mindfucked Shows present:\nVitamin X (Hardcorepunk/A
 msterdam)https://www.instagram.com/vitaminx_official/?hl=dehttps://vitamin
 x.bandcamp.com/\nAbrupt (HC-Punk/Göttingen)https://www.instagram.com/abru
 pt_punx/?hl=dehttps://abrupt-punx.bandcamp.com/\nGayGasm (New Hope in Deut
 schpunk from Hannover)https://www.instagram.com/gaygasm.official/\nNo Dogs
 ! No Cops! No Bullshit!
CATEGORIES:Konzert
LOCATION:Kopernikus\, Kopernikusstr.11\, Hannover\, Deutschland
X-APPLE-STRUCTURED-LOCATION;VALUE=URI;X-ADDRESS=Kopernikusstr.11\, Hannover
 \, Deutschland;X-APPLE-RADIUS=100;X-TITLE=Kopernikus:geo:0,0
END:VEVENT
BEGIN:VTIMEZONE
TZID:Europe/Berlin
X-LIC-LOCATION:Europe/Berlin
BEGIN:DAYLIGHT
DTSTART:20250330T030000
TZOFFSETFROM:+0100
TZOFFSETTO:+0200
TZNAME:CEST
END:DAYLIGHT
END:VTIMEZONE
END:VCALENDAR