BEGIN:VCALENDAR
VERSION:2.0
PRODID:-//wp-events-plugin.com//7.2.3.1//EN
TZID:Europe/Berlin
X-WR-TIMEZONE:Europe/Berlin
BEGIN:VEVENT
UID:150423@rauszeit-termine.org
DTSTART;TZID=Europe/Berlin:20250926T203000
DTEND;TZID=Europe/Berlin:20250926T223000
DTSTAMP:20250922T095517Z
URL:https://rauszeit-termine.org/events/konzert-moya-silk-alternative-uk-h
 albe-katze-punk-indie-leipzig/
SUMMARY:Konzert: Moya Silk (Alternative // UK) + Halbe Katze (Punk / Indie 
 // Leipzig)
DESCRIPTION:Konzert mit Moya Silk und Halbe Katze\n\nDoors: 20:30h\, Start 
 21h.\n\nEquivalent | halbe Katze\n\nPosing like Auteurs | Moya Silk
CATEGORIES:Konzert
LOCATION:Stumpf\, Welfengarten 2c\, Hannover\, Niedersachsen\, 30167\, Deut
 schland
X-APPLE-STRUCTURED-LOCATION;VALUE=URI;X-ADDRESS=Welfengarten 2c\, Hannover\
 , Niedersachsen\, 30167\, Deutschland;X-APPLE-RADIUS=100;X-TITLE=Stumpf:ge
 o:0,0
END:VEVENT
BEGIN:VTIMEZONE
TZID:Europe/Berlin
X-LIC-LOCATION:Europe/Berlin
BEGIN:DAYLIGHT
DTSTART:20250330T030000
TZOFFSETFROM:+0100
TZOFFSETTO:+0200
TZNAME:CEST
END:DAYLIGHT
END:VTIMEZONE
END:VCALENDAR