BEGIN:VCALENDAR
VERSION:2.0
PRODID:-//wp-events-plugin.com//7.2.3.1//EN
TZID:Europe/Berlin
X-WR-TIMEZONE:Europe/Berlin
BEGIN:VEVENT
UID:12077@rauszeit-termine.org
DTSTART;TZID=Europe/Berlin:20240802T210000
DTEND;TZID=Europe/Berlin:20240802T234500
DTSTAMP:20240225T224948Z
URL:https://rauszeit-termine.org/events/konzert-cf98-run-melos/
SUMMARY:Konzert: CF98 + Run\, Melos!
DESCRIPTION:CF98 (Skatepunk aus Polen)\nRun\, Melos! (Poppunk aus Hannover)
 \n&nbsp\;\n02.08.24 - Doors 21h - Band 22h\nStumpf
ATTACH;FMTTYPE=image/jpeg:https://rauszeit-termine.org/wp-content/uploads/
 2024/02/1.png
CATEGORIES:Konzert
LOCATION:Stumpf\, Welfengarten 2c\, Hannover\, Niedersachsen\, 30167\, Deut
 schland
X-APPLE-STRUCTURED-LOCATION;VALUE=URI;X-ADDRESS=Welfengarten 2c\, Hannover\
 , Niedersachsen\, 30167\, Deutschland;X-APPLE-RADIUS=100;X-TITLE=Stumpf:ge
 o:0,0
END:VEVENT
BEGIN:VTIMEZONE
TZID:Europe/Berlin
X-LIC-LOCATION:Europe/Berlin
BEGIN:DAYLIGHT
DTSTART:20240331T030000
TZOFFSETFROM:+0100
TZOFFSETTO:+0200
TZNAME:CEST
END:DAYLIGHT
END:VTIMEZONE
END:VCALENDAR