BEGIN:VCALENDAR
VERSION:2.0
PRODID:-//wp-events-plugin.com//7.2.3.1//EN
TZID:Europe/Berlin
X-WR-TIMEZONE:Europe/Berlin
BEGIN:VEVENT
UID:12400@rauszeit-termine.org
DTSTART;TZID=Europe/Berlin:20240703T190000
DTEND;TZID=Europe/Berlin:20240703T234500
DTSTAMP:20240530T094317Z
URL:https://rauszeit-termine.org/events/konzert-8/
SUMMARY:konzert
DESCRIPTION:Angry Zeta (streetgrassPunk / argentina)\nBarräkas (hc-anarcho
  punk / Costa rica)
CATEGORIES:Sonstiges
LOCATION:List & Tücke (Wagenplatz)\, Lister Damm 65\, Hannover\, 30163\, D
 eutschland
X-APPLE-STRUCTURED-LOCATION;VALUE=URI;X-ADDRESS=Lister Damm 65\, Hannover\,
  30163\, Deutschland;X-APPLE-RADIUS=100;X-TITLE=List & Tücke (Wagenplatz)
 :geo:0,0
END:VEVENT
BEGIN:VTIMEZONE
TZID:Europe/Berlin
X-LIC-LOCATION:Europe/Berlin
BEGIN:DAYLIGHT
DTSTART:20240331T030000
TZOFFSETFROM:+0100
TZOFFSETTO:+0200
TZNAME:CEST
END:DAYLIGHT
END:VTIMEZONE
END:VCALENDAR