BEGIN:VCALENDAR
VERSION:2.0
PRODID:-//wp-events-plugin.com//7.2.3.1//EN
TZID:Europe/Berlin
X-WR-TIMEZONE:Europe/Berlin
BEGIN:VEVENT
UID:14587@rauszeit-termine.org
DTSTART;TZID=Europe/Berlin:20250307T193000
DTEND;TZID=Europe/Berlin:20250307T231500
DTSTAMP:20250222T060138Z
URL:https://rauszeit-termine.org/events/konzert-10/
SUMMARY:Konzert
DESCRIPTION:Punkkonzert mit:\n&nbsp\;\nMØRSCH - Punk Hannover\nhttps://mor
 sch.bandcamp.com/album/hohldrehung\n&nbsp\;\nHATE ME LATER - Skapunk Hanno
 ver\nhttps://hatemelater.bandcamp.com/album/demo\n&nbsp\;\nKIOSK IDEAL - P
 unk Hannover\nhttps://kioskideal.bandcamp.com/album/kiosk-ideal
ATTACH;FMTTYPE=image/jpeg:https://rauszeit-termine.org/wp-content/uploads/
 2025/02/Konzert.jpg
CATEGORIES:Konzert
LOCATION:SV Arminia Hannover (Vereinskneipe)\, Bischofsholer Damm 119\, Han
 nover\, Niedersachsen\, 30173\, Deutschland
X-APPLE-STRUCTURED-LOCATION;VALUE=URI;X-ADDRESS=Bischofsholer Damm 119\, Ha
 nnover\, Niedersachsen\, 30173\, Deutschland;X-APPLE-RADIUS=100;X-TITLE=SV
  Arminia Hannover (Vereinskneipe):geo:0,0
END:VEVENT
BEGIN:VTIMEZONE
TZID:Europe/Berlin
X-LIC-LOCATION:Europe/Berlin
BEGIN:STANDARD
DTSTART:20241027T020000
TZOFFSETFROM:+0200
TZOFFSETTO:+0100
TZNAME:CET
END:STANDARD
END:VTIMEZONE
END:VCALENDAR