BEGIN:VCALENDAR
VERSION:2.0
PRODID:-//wp-events-plugin.com//7.2.3.1//EN
TZID:Europe/Berlin
X-WR-TIMEZONE:Europe/Berlin
BEGIN:VEVENT
UID:6829@rauszeit-termine.org
DTSTART:20200806T150000Z
DTEND:20200806T190000Z
DTSTAMP:20200701T073334Z
URL:https://rauszeit-termine.org/events/konstruktion-von-geschlecht/
SUMMARY:Konstruktion von Geschlecht
DESCRIPTION:In unserem Alltag treten wir in der zweigeschlechtlichen Gesell
 schaft als Mann oder Frau auf. Genauso nehmen wir unser Gegenüber nicht u
 nabhängig vom Geschlecht wahr. Das Geschlecht betrifft uns also in so gut
  wie jeder sozialen Situation.\nDiesem Prozess gehen wir genauer auf den G
 rund. Wir beschäftigten uns damit wie Geschlechterrollen sozial hergestel
 lt werden und welche Erwartungen und Möglichkeiten an sie geknüpft sind.
  Wir reflektieren geschlechtsspezifische Unterschiede und deren Wirkung au
 f uns und andere. Zudem erkunden wir zusammen geschlechtsspezifisches Verh
 alten und deren Wirkung.\n\n 	Referent*innen: Jacqueline Grunder und Team
  von 1001 plateau (1001plateau setzt sich für die Akzeptanz von geschlec
 htlicher und sexueller Vielfalt ein und schafft Räume der Begegnung für 
 TIQ* Personen und alldiejenigen die sich kritisch mit Geschlechterrollen a
 useinandersetzen.)\n 	Anmeldung: kontakt [at] mosaikgesundheit [dot] de 
 (Nach der Anmeldung erhältst du die Zugangsdaten und eine kurze Anleitung
  zur verwendeten Technik)\n 	Max. 24 Teilnehmende\n 	Der Workshop findet i
 n deutscher Lautsprache statt und ist offen für alle FLINTA`s\n 	Teilnahm
 e kostenfrei\, gefördert aus Mitteln des Landes Niedersachsen.\n 	Eine Ve
 ranstaltung von MOSAIK Gesundheit in Kooperation mit TiN\n
CATEGORIES:FLT*I*Q* Only,Workshop
END:VEVENT
END:VCALENDAR