BEGIN:VCALENDAR
VERSION:2.0
PRODID:-//wp-events-plugin.com//7.2.3.1//EN
TZID:Europe/Berlin
X-WR-TIMEZONE:Europe/Berlin
BEGIN:VEVENT
UID:6832@rauszeit-termine.org
DTSTART:20200827T150000Z
DTEND:20200827T150000Z
DTSTAMP:20200701T075036Z
URL:https://rauszeit-termine.org/events/konfrontationskompetenz-fuer-flint
 /
SUMMARY:Konfrontationskompetenz für FLINT*
DESCRIPTION:Workshopbeschreibung folgt in Kürze\n\n 	Referent*in: Eva Hoc
 k\n 	Anmeldung: tin [at] q-nn [dot] de (Nach der Anmeldung erhälst du d
 ie Zugangsdaten und eine kurze Anleitung zur verwendeten Technik)\n 	Der W
 orkshop findet in deutscher Lautsprache statt und ist offen für alle FLIN
 TA`s\n 	Teilnahme kostenfrei\, gefördert aus Mitteln des Landes Niedersac
 hsen.\n 	Eine Veranstaltung von TiN in Kooperation mit MOSAIK Gesundheit\n
CATEGORIES:FLT*I*Q* Only,Workshop
END:VEVENT
END:VCALENDAR