BEGIN:VCALENDAR
VERSION:2.0
PRODID:-//wp-events-plugin.com//7.2.3.1//EN
TZID:Europe/Berlin
X-WR-TIMEZONE:Europe/Berlin
BEGIN:VEVENT
UID:150519@rauszeit-termine.org
DTSTART;TZID=Europe/Berlin:20251010T190000
DTEND;TZID=Europe/Berlin:20251011T000000
DTSTAMP:20251007T170128Z
URL:https://rauszeit-termine.org/events/kneipenquiz/
SUMMARY:Kneipenquiz
DESCRIPTION:Das erste Kneipenquiz im LKA! Kommt vorbei zu einer gemütliche
 n Runde um in kleinen Teams Quizfragen zu beantworten. Es wird cozy\, span
 nend und vielleicht sogar ein bisschen informativ.
CATEGORIES:Kneipe,Tablequiz
LOCATION:LKA\, Fröbelstr. 5\, Hannover\, 30451\, Deutschland
X-APPLE-STRUCTURED-LOCATION;VALUE=URI;X-ADDRESS=Fröbelstr. 5\, Hannover\, 
 30451\, Deutschland;X-APPLE-RADIUS=100;X-TITLE=LKA:geo:0,0
END:VEVENT
BEGIN:VTIMEZONE
TZID:Europe/Berlin
X-LIC-LOCATION:Europe/Berlin
BEGIN:DAYLIGHT
DTSTART:20250330T030000
TZOFFSETFROM:+0100
TZOFFSETTO:+0200
TZNAME:CEST
END:DAYLIGHT
END:VTIMEZONE
END:VCALENDAR