BEGIN:VCALENDAR
VERSION:2.0
PRODID:-//wp-events-plugin.com//7.2.3.1//EN
TZID:Europe/Berlin
X-WR-TIMEZONE:Europe/Berlin
BEGIN:VEVENT
UID:14606@rauszeit-termine.org
DTSTART;TZID=Europe/Berlin:20250228T180000
DTEND;TZID=Europe/Berlin:20250228T180000
DTSTAMP:20250225T093113Z
URL:https://rauszeit-termine.org/events/kneipe-gegen-rechtsextremismus/
SUMMARY:Kneipe gegen Rechtsextremismus
DESCRIPTION:Wir laden ein zur Kneipe gegen Rechtsextremismus!\n\nDie AfD ge
 winnt immer mehr an Zuspruch\, Abschiebefantasien werden immer beliebter u
 nd die Wahlen rücken immer näher. Vor allem im Umland werden die Ausmaß
 e des Rechtsrucks deutlich. Faschistische Sticker und Schmierereien\, inzw
 ischen offenes Bekennen zur AfD - dem wollen wir uns entgegensetzen!\nAm F
 reitag nach den Wahlen laden wir euch dazu ein\, ab 18 Uhr zur Kneipe gege
 n rechts in die Wohnwelt Wunstorf zu kommen\, damit wir uns gemeinsam übe
 r die Wahlen und den Rechtsruck austauschen können!
ATTACH;FMTTYPE=image/jpeg:https://rauszeit-termine.org/wp-content/uploads/
 2025/02/wowe-kneipe.jpg
CATEGORIES:Kneipe
LOCATION:Wohnwelt Wunstorf\, Bahnhofstraße 93\, Wunstorf\, 31515\, Deutsch
 land
X-APPLE-STRUCTURED-LOCATION;VALUE=URI;X-ADDRESS=Bahnhofstraße 93\, Wunstor
 f\, 31515\, Deutschland;X-APPLE-RADIUS=100;X-TITLE=Wohnwelt Wunstorf:geo:0
 ,0
END:VEVENT
BEGIN:VTIMEZONE
TZID:Europe/Berlin
X-LIC-LOCATION:Europe/Berlin
BEGIN:STANDARD
DTSTART:20241027T020000
TZOFFSETFROM:+0200
TZOFFSETTO:+0100
TZNAME:CET
END:STANDARD
END:VTIMEZONE
END:VCALENDAR