BEGIN:VCALENDAR
VERSION:2.0
PRODID:-//wp-events-plugin.com//7.2.3.1//EN
TZID:Europe/Berlin
X-WR-TIMEZONE:Europe/Berlin
BEGIN:VEVENT
UID:6825@rauszeit-termine.org
DTSTART:20200715T160000Z
DTEND:20200715T180000Z
DTSTAMP:20200701T071815Z
URL:https://rauszeit-termine.org/events/kink-basics/
SUMMARY:Kink Basics
DESCRIPTION:Du bist neugierig darauf\, neue Möglichkeiten in deinem Sexleb
 en zu erkunden und fragst dich\, ob Kink etwas für dich ist? Oder viellei
 cht hast du dich schon an BDSM versucht und möchtest tiefer in die Themat
 ik eintauchen und herausfinden\, wie du bestimmte Terrains mit Partner*inn
 en erkunden kannst?\n\nIn diesem Workshop entmystifizieren wir Kink und BD
 SM\, entwerfen Schlüsselelemente für offene und effektive Absprachen &am
 p\; Aushandlungen und geben praktische Sicherheitstipps und -techniken wei
 ter\, um dich auf deinem Weg der endlosen Begierden und Sehnsüchte zu unt
 erstützen.\n\nBegleitet uns zu einem Workshop mit Gesprächen\, Übungen 
 und Tipps\, um uns gemeinsam auf die Suche danach zu begeben\, wie Sex und
  Intimität außerhalb von „das muss so und so sein“\, aussehen kann. 
 Wir werden die Themen Machtdynamiken\, Rollenspiele und intensive Stimulat
 ion in konsensuellen\, Risiko-bewussten und intendierten Weisen\, angehen.
  Erfahre mehr über die heilenden und befreienden Potenziale von Kink und 
 nimm am Ende sogar ein paar Ideen mit\, wie du online miteinander spielen 
 kannst\, während Covid-19 unseren Alltag bestimmt!\n\n 	Referent*in: von
  Other Nature\n 	Anmeldung: kontakt [at] mosaikgesundheit [dot] de (Nac
 h der Anmeldung erhalten Sie die Zugangsdaten und eine kurze Anleitung zur
  verwendeten Technik)\n 	Teilnahme kostenfrei\, gefördert aus Mitteln des
  Landes Niedersachsen.\n 	Eine Veranstaltung von MOSAIK Gesundheit\n
CATEGORIES:FLT*I*Q* Only,Workshop
END:VEVENT
END:VCALENDAR