BEGIN:VCALENDAR
VERSION:2.0
PRODID:-//wp-events-plugin.com//7.2.3.1//EN
TZID:Europe/Berlin
X-WR-TIMEZONE:Europe/Berlin
BEGIN:VEVENT
UID:150144@rauszeit-termine.org
DTSTART;TZID=Europe/Berlin:20250920T150000
DTEND;TZID=Europe/Berlin:20250920T220000
DTSTAMP:20250909T122105Z
URL:https://rauszeit-termine.org/events/kiezfest-limmer/
SUMMARY:Kiezfest Limmer
DESCRIPTION:Die Limmer Nachbarschaft veranstaltet ein Kiezfest mit tollen M
 itmachaktionen für Groß & Klein\, Nachbarschaftsquiz\, Street-Karaoke\, 
 Lasterad-Probefahren\, Infoständen\, leckerem Essen\, Getränken & Livemu
 sik!\n\nwww.wirinlimmer.de\n\n
ATTACH;FMTTYPE=image/jpeg:https://rauszeit-termine.org/wp-content/uploads/
 2025/09/01_Aktuell_25_8_share_picsKiezfest_nebenan_Sonntag.png
CATEGORIES:Sonstiges
LOCATION:Margarethe-und-Max-Rüdenberg-Platz\, Margarethe-und-Max-Rüdenber
 g-Platz\, Hannover\, Deutschland
X-APPLE-STRUCTURED-LOCATION;VALUE=URI;X-ADDRESS=Margarethe-und-Max-Rüdenbe
 rg-Platz\, Hannover\, Deutschland;X-APPLE-RADIUS=100;X-TITLE=Margarethe-un
 d-Max-Rüdenberg-Platz:geo:0,0
END:VEVENT
BEGIN:VTIMEZONE
TZID:Europe/Berlin
X-LIC-LOCATION:Europe/Berlin
BEGIN:DAYLIGHT
DTSTART:20250330T030000
TZOFFSETFROM:+0100
TZOFFSETTO:+0200
TZNAME:CEST
END:DAYLIGHT
END:VTIMEZONE
END:VCALENDAR