BEGIN:VCALENDAR
VERSION:2.0
PRODID:-//wp-events-plugin.com//7.2.3.1//EN
TZID:Europe/Berlin
X-WR-TIMEZONE:Europe/Berlin
BEGIN:VEVENT
UID:150146@rauszeit-termine.org
DTSTART;TZID=Europe/Berlin:20250921T110000
DTEND;TZID=Europe/Berlin:20250921T160000
DTSTAMP:20250909T122352Z
URL:https://rauszeit-termine.org/events/kiezfest-limmer-2/
SUMMARY:Kiezfest Limmer
DESCRIPTION:11 Uhr Ev. Gottesdienst auf der Strasse\nAb 12 Uhr Aufbau Nachb
 arschaftsflohmarkt\nAb 12 Nachbarschaftsbuffet auf der Strasse\n13 Uhr Beg
 inn Flohmarkt \n\nwww.wirinlimmer.de
ATTACH;FMTTYPE=image/jpeg:https://rauszeit-termine.org/wp-content/uploads/
 2025/09/01_Aktuell_25_8_share_picsKiezfest_nebenan_Sonntag.png
CATEGORIES:Sonstiges
LOCATION:Margarethe-und-Max-Rüdenberg-Platz\, Margarethe-und-Max-Rüdenber
 g-Platz\, Hannover\, Deutschland
X-APPLE-STRUCTURED-LOCATION;VALUE=URI;X-ADDRESS=Margarethe-und-Max-Rüdenbe
 rg-Platz\, Hannover\, Deutschland;X-APPLE-RADIUS=100;X-TITLE=Margarethe-un
 d-Max-Rüdenberg-Platz:geo:0,0
END:VEVENT
BEGIN:VTIMEZONE
TZID:Europe/Berlin
X-LIC-LOCATION:Europe/Berlin
BEGIN:DAYLIGHT
DTSTART:20250330T030000
TZOFFSETFROM:+0100
TZOFFSETTO:+0200
TZNAME:CEST
END:DAYLIGHT
END:VTIMEZONE
END:VCALENDAR