BEGIN:VCALENDAR
VERSION:2.0
PRODID:-//wp-events-plugin.com//7.2.3.1//EN
TZID:Europe/Berlin
X-WR-TIMEZONE:Europe/Berlin
BEGIN:VEVENT
UID:150135@rauszeit-termine.org
DTSTART;TZID=Europe/Berlin:20250926T180000
DTEND;TZID=Europe/Berlin:20250928T234500
DTSTAMP:20250905T101501Z
URL:https://rauszeit-termine.org/events/kammerkorn-festival/
SUMMARY:Kammerkorn Festival
DESCRIPTION:\n\n\n\n\n\n\n\n\n\n\n\n\n\n\n\n\n\n\n\n\nEndlich geht es wiede
 r los!!!\nWir laden euch ein zu unserem ersten KammerKorn Festival im UJZ 
 Korn!\n\n\n\n\n\n\n\n\n\n\n\n\n\n\n\n\n\n\n\n\n\n\n\n\n\n\n\n\n\n\n\n\n\n\
 n\n\n\n\nEin Jahr Herzblut\, Ideen und Zeit haben wir investiert und könn
 en nun sehr glücklich eine herzliche Einladung aussprechen:\nvom 26.-28.9
 . werden wir im UJZ Korn unser erstes Festival veranstalten und haben als 
 Gäste SYRIAB und Michel Abdollahi eingeladen. \nLos geht es  mit einem 
 Eröffnungskonzert am Freiag Abend um 20:00\, bei dem wir - das Trio d'Iro
 ise - Beethoven\, Jean Cras und andere Werke voller Aufbruchstimmung präs
 entieren werden und den Abend gerne wie gewohnt mit euch an der Bar auskli
 ngen lassen.\nDer 27.9. startet mit einem Familienvormittag\, an dem wir d
 eutsche und arabische Kinderlieder in den Fokus nehmen und SYRIAB drei ver
 schiedene Workshop Gruppen anbietet. Kinder zwischen 5-14 Jahren haben die
  Möglichkeit an einem eigenen Kinderlied mitzuwirken\, einen Percussion W
 orkshop zu machen oder - für die Kleinsten - gemeinsam Lieder zu musizier
 en und kennenzulernen. Abschließend werden wir die entstandene Musik geme
 insam den Eltern präsentieren und ein Mittagessen für alle im Innenhof l
 ädt zum Austausch und Ausklang ein.\nAb 19:00 erglüht die Korn in einem 
 FUSION Abend: \ntraditionelle\, instrumentale arabische Musik wird abgel
 öst von elektronischer arabischer Musik und die Kneipe des UJZ Korn wird 
 zum Dancefloor.\nUnser Festival endet am 28.9. mit einem Gesprächskonzert
  mit Michel Abdollahi\, der aus seinem neuen Buch "Es ist unser Land" rezi
 tieren wird und weitere eigene Texte mitbringt\, die wir als Trio d'Iroise
  musikalisch umrahmen werden. \nIn den nächsten Wochen wird euch dieser 
 Newsletter mit spannenden Insights und Details erreichen\, die ihr gerne w
 eiterleiten könnt. Und wie gewohnt wird sich unser Kukturangebot jede*r B
 ewohner*in Hannovers leisten können\, denn "Pay-what-you-can" ist für un
 s ein zentrales Bedürfniss\, so dass ihr euch zu einem Anteil der in eure
 n individuellen Möglichkeiten liegt an der Umsetzung dieses Festivals bet
 eiligen könnt. \nWir freuen uns riesig auf euch\,\neuer Trio d'Iroise un
 d\neuer KammerKorn e.V.  \n\n\n\n\n\n\n\n\n\n\n\n\n\n\n\n\n
ATTACH;FMTTYPE=image/jpeg:https://rauszeit-termine.org/wp-content/uploads/
 2025/09/25-09-26-28-Kammerkorn.jpg
CATEGORIES:Festival
LOCATION:UJZ Korn\, Kornstraße 28-30\, Hannover\, Niedersachsen\, 30167\, 
 Hannover\, Deutschland
X-APPLE-STRUCTURED-LOCATION;VALUE=URI;X-ADDRESS=Kornstraße 28-30\, Hannove
 r\, Niedersachsen\, 30167\, Hannover\, Deutschland;X-APPLE-RADIUS=100;X-TI
 TLE=UJZ Korn:geo:0,0
END:VEVENT
BEGIN:VTIMEZONE
TZID:Europe/Berlin
X-LIC-LOCATION:Europe/Berlin
BEGIN:DAYLIGHT
DTSTART:20250330T030000
TZOFFSETFROM:+0100
TZOFFSETTO:+0200
TZNAME:CEST
END:DAYLIGHT
END:VTIMEZONE
END:VCALENDAR