BEGIN:VCALENDAR
VERSION:2.0
PRODID:-//wp-events-plugin.com//7.2.3.1//EN
TZID:Europe/Berlin
X-WR-TIMEZONE:Europe/Berlin
BEGIN:VEVENT
UID:6885@rauszeit-termine.org
DTSTART:20201101T140000Z
DTEND:20201101T160000Z
DTSTAMP:20201027T212630Z
URL:https://rauszeit-termine.org/events/kaffeeklatsch-zur-hochschulpolitik
 /
SUMMARY:Kaffeeklatsch zur Hochschulpolitik
DESCRIPTION:Aufgrund von Covid-19 können maximal 10 Personen an dem Worksh
 op teilnehmen!\nAnmeldung bitte an: polbil@asta-hannover.de\n\nWas ist der
  AStA überhaupt und was hat das mit mir zu tun? Ist der Plural von AStA A
 sti? Wenn Dich die Antworten auf diese Fragen interessieren oder Du einfac
 h Lust auf einen Kaffeeklatsch in entspannter Atmosphäre hast\, bist Du h
 ier genau richtig. Gerne stellen wir Dir vor\, was wir im AStA überhaupt 
 machen\, was es für Angebote von uns gibt und wobei wir Dir helfen könne
 n. Bei einem Kaltgetränk oder Muffins können wir uns gemeinsam darüber 
 austauschen was es sonst noch für hochschulpolitische Institutionen gibt\
 , wie ihr euch einbringen könnt und wieso das wichtig ist. Anschließend 
 an den Auftaktvortrag vom 28. November\, lässt sich feststellen\, dass di
 e Uni sich nicht unabhängig von Gesellschaft begreifen lässt. Auch der U
 ni-Alltag ist durch gesellschaftliche Konkurrenz und Leistungszwänge gepr
 ägt und legt den Studierenden Steine in den Weg. Was wir gemeinsamen dage
 gen tun können soll hier ebenso besprochen werden wie wir einen Raum für
  ein offenes Kennenlernen sowie Fragen jeder Art bieten möchten.
CATEGORIES:Workshop
LOCATION:Andersraum\, Asternstr. 2\, Hannover\, Deutschland
X-APPLE-STRUCTURED-LOCATION;VALUE=URI;X-ADDRESS=Asternstr. 2\, Hannover\, D
 eutschland;X-APPLE-RADIUS=100;X-TITLE=Andersraum:geo:0,0
END:VEVENT
END:VCALENDAR