BEGIN:VCALENDAR
VERSION:2.0
PRODID:-//wp-events-plugin.com//7.2.3.1//EN
TZID:Europe/Berlin
X-WR-TIMEZONE:Europe/Berlin
BEGIN:VEVENT
UID:14571@rauszeit-termine.org
DTSTART;TZID=Europe/Berlin:20250218T180000
DTEND;TZID=Europe/Berlin:20250218T180000
DTSTAMP:20250214T230109Z
URL:https://rauszeit-termine.org/events/kaempferischer-pride-warum-csds-in
 -zeiten-des-rechtsrucks-politisch-sein-muessen/
SUMMARY:Kämpferischer PRIDE – Warum CSDs in Zeiten des Rechtsrucks polit
 isch sein müssen.
DESCRIPTION:Ab 18:00 Uhr laden wir euch zu einem entspannten Ankommen ein 
 – gefolgt von einer inspirierenden Filmvorführung rund um das Thema PRI
 DE um 18:30 Uhr. Ab 20:00 Uhr starten wir mit einer offenen Diskussionsrun
 de\, in der wir darüber sprechen\, wie CSDs als politisches Instrument ge
 gen den Rechtsruck wirken können.Kommt vorbei\, bringt eure Ideen mit und
  lasst uns gemeinsam für Vielfalt\, Toleranz und Gerechtigkeit kämpfen!
ATTACH;FMTTYPE=image/jpeg:https://rauszeit-termine.org/wp-content/uploads/
 2025/02/csd-treffen-elch-2.webp
CATEGORIES:Diskussion,Film,LGBT*I*Q
LOCATION:Elchkeller\, Schneiderberg 50\, Hannover\, Deutschland
X-APPLE-STRUCTURED-LOCATION;VALUE=URI;X-ADDRESS=Schneiderberg 50\, Hannover
 \, Deutschland;X-APPLE-RADIUS=100;X-TITLE=Elchkeller:geo:0,0
END:VEVENT
BEGIN:VTIMEZONE
TZID:Europe/Berlin
X-LIC-LOCATION:Europe/Berlin
BEGIN:STANDARD
DTSTART:20241027T020000
TZOFFSETFROM:+0200
TZOFFSETTO:+0100
TZNAME:CET
END:STANDARD
END:VTIMEZONE
END:VCALENDAR