BEGIN:VCALENDAR
VERSION:2.0
PRODID:-//wp-events-plugin.com//7.2.3.1//EN
TZID:Europe/Berlin
X-WR-TIMEZONE:Europe/Berlin
BEGIN:VEVENT
UID:6816@rauszeit-termine.org
DTSTART:20200606T120000Z
DTEND:20200606T140000Z
DTSTAMP:20200603T185516Z
URL:https://rauszeit-termine.org/events/jugend-demonstration/
SUMMARY:Jugend-Demonstration
DESCRIPTION:\n\nDie Bewegung der Revolutionären Jugend (Tevgera Ciwanên 
 Şoreşger - TCŞ) ruft für den kommenden Samstag zu einer Jugend-Demonst
 ration in Hannover auf. Die Demo richtet sich gegen die Zwangsverwaltung i
 n den kurdischen Städten Nordkurdistans\, gegen die Besatzungsversuche in
  Rojava sowie gegen die Angriffe auf das Geflüchtetencamp Mexmûr und die
  Regin Zînê Wertê in Südkurdistan und tritt ein für die Freiheit alle
 r politischen Gefangenen. \nKommt zur Demo! Bringt Freund*innen mit!
CATEGORIES:Demo
LOCATION:Klagesmarkt\, Klagesmarkt\, Hannover\, Deutschland
X-APPLE-STRUCTURED-LOCATION;VALUE=URI;X-ADDRESS=Klagesmarkt\, Hannover\, De
 utschland;X-APPLE-RADIUS=100;X-TITLE=Klagesmarkt:geo:0,0
END:VEVENT
END:VCALENDAR