BEGIN:VCALENDAR
VERSION:2.0
PRODID:-//wp-events-plugin.com//7.2.3.1//EN
TZID:Europe/Berlin
X-WR-TIMEZONE:Europe/Berlin
BEGIN:VEVENT
UID:98625@rauszeit-termine.org
DTSTART;TZID=Europe/Berlin;VALUE=DATE:20200208
DTEND;TZID=Europe/Berlin;VALUE=DATE:20200209
DTSTAMP:20250401T132049Z
URL:https://rauszeit-termine.org/events/john-4-2020-02-08/
SUMMARY:John
DESCRIPTION:SpqH WMhZlrra Lsr
CATEGORIES:Aktion
END:VEVENT
BEGIN:VTIMEZONE
TZID:Europe/Berlin
X-LIC-LOCATION:Europe/Berlin
BEGIN:STANDARD
DTSTART:20191027T020000
TZOFFSETFROM:+0200
TZOFFSETTO:+0100
TZNAME:CET
END:STANDARD
END:VTIMEZONE
END:VCALENDAR