BEGIN:VCALENDAR
VERSION:2.0
PRODID:-//wp-events-plugin.com//7.2.3.1//EN
TZID:Europe/Berlin
X-WR-TIMEZONE:Europe/Berlin
BEGIN:VEVENT
UID:46334@rauszeit-termine.org
DTSTART;TZID=Europe/Berlin;VALUE=DATE:20201025
DTEND;TZID=Europe/Berlin;VALUE=DATE:20201026
DTSTAMP:20250328T200620Z
URL:https://rauszeit-termine.org/events/john-3-2020-10-25/
SUMMARY:John
DESCRIPTION:DIyuw qUrTWESH daPCsS agU IzkagEK eJYHz QJNBhwb
CATEGORIES:Aktion
END:VEVENT
BEGIN:VTIMEZONE
TZID:Europe/Berlin
X-LIC-LOCATION:Europe/Berlin
BEGIN:DAYLIGHT
DTSTART:20200329T030000
TZOFFSETFROM:+0100
TZOFFSETTO:+0200
TZNAME:CEST
END:DAYLIGHT
BEGIN:STANDARD
DTSTART:20201025T020000
TZOFFSETFROM:+0200
TZOFFSETTO:+0100
TZNAME:CET
END:STANDARD
END:VTIMEZONE
END:VCALENDAR