BEGIN:VCALENDAR
VERSION:2.0
PRODID:-//wp-events-plugin.com//7.2.3.1//EN
TZID:Europe/Berlin
X-WR-TIMEZONE:Europe/Berlin
BEGIN:VEVENT
UID:24310@rauszeit-termine.org
DTSTART;TZID=Europe/Berlin;VALUE=DATE:20200917
DTEND;TZID=Europe/Berlin;VALUE=DATE:20200918
DTSTAMP:20250328T110010Z
URL:https://rauszeit-termine.org/events/john-2020-09-17/
SUMMARY:John
DESCRIPTION:hSXZsnmj vQGrhJU uQch EmIzpYRl
CATEGORIES:Aktion
END:VEVENT
BEGIN:VTIMEZONE
TZID:Europe/Berlin
X-LIC-LOCATION:Europe/Berlin
BEGIN:DAYLIGHT
DTSTART:20200329T030000
TZOFFSETFROM:+0100
TZOFFSETTO:+0200
TZNAME:CEST
END:DAYLIGHT
END:VTIMEZONE
END:VCALENDAR