BEGIN:VCALENDAR
VERSION:2.0
PRODID:-//wp-events-plugin.com//7.2.3.1//EN
TZID:Europe/Berlin
X-WR-TIMEZONE:Europe/Berlin
BEGIN:VEVENT
UID:7005@rauszeit-termine.org
DTSTART:20201216T173000Z
DTEND:20201216T193000Z
DTSTAMP:20201208T121004Z
URL:https://rauszeit-termine.org/events/jineoloji-eine-wissenschaft-rund-u
 m-die-frau-und-das-leben/
SUMMARY:Jineolojî - eine Wissenschaft rund um die Frau und das Leben
DESCRIPTION:Aus der revolutionären Praxis der kurdischen Frauenbewegung en
 twickelt\, möchte Jineolojî die Frauenbefreiung weltweit voran bringen u
 nd eine Grundlage liefern. Dabei versteht sich die Jineolojî als eine Wis
 senschaft\, die sich nicht abseits von\, sondern als Mitten in der Gesells
 chaft begreift und die gesellschaftlichen Probleme lösen möchte: Was bed
 eutet Frau jenseits patriarchaler Einflüsse? Was bedeutet freies Leben? W
 ie wollen wir überhaupt leben?\n\nEine Veranstaltung vom Jineolojî Komit
 ee Deutschland in Kooperation mit dem AStA der Leibniz Universität Hannov
 er
CATEGORIES:Workshop
END:VEVENT
END:VCALENDAR