BEGIN:VCALENDAR
VERSION:2.0
PRODID:-//wp-events-plugin.com//7.2.3.1//EN
TZID:Europe/Berlin
X-WR-TIMEZONE:Europe/Berlin
BEGIN:VEVENT
UID:7011@rauszeit-termine.org
DTSTART:20201216T193000Z
DTEND:20201216T213000Z
DTSTAMP:20201216T151949Z
URL:https://rauszeit-termine.org/events/jineoloji-eine-wissenschaft-rund-u
 m-die-frau-und-das-leben-2/
SUMMARY:Jineolojî - eine Wissenschaft rund um die Frau und das Leben
DESCRIPTION:***Online Veranstaltung - Zugang über: https://zoom.us/j/96725
 847794 ***\nAus der revolutionären Praxis der kurdischen Frauenbewegung e
 ntwickelt\, möchte Jineolojî die Frauenbefreiung weltweit voran bringen 
 und eine Grundlage liefern. Dabei versteht sich die Jineolojî als eine Wi
 ssenschaft\, die sich nicht abseits von\, sondern als Mitten in der Gesell
 schaft begreift und die gesellschaftlichen Probleme lösen möchte: Was be
 deutet Frau jenseits patriarchaler Einflüsse? Was bedeutet freies Leben? 
 Wie wollen wir überhaupt leben?\n\nEine Veranstaltung vom Jineolojî Komi
 tee Deutschland in Kooperation mit dem AStA der Leibniz Universität Hanno
 ver
END:VEVENT
END:VCALENDAR