BEGIN:VCALENDAR
VERSION:2.0
PRODID:-//wp-events-plugin.com//7.2.3.1//EN
TZID:Europe/Berlin
X-WR-TIMEZONE:Europe/Berlin
BEGIN:VEVENT
UID:14575@rauszeit-termine.org
DTSTART;TZID=Europe/Berlin:20250215T120000
DTEND;TZID=Europe/Berlin:20250215T120000
DTSTAMP:20250214T225527Z
URL:https://rauszeit-termine.org/events/jin-jiyan-azadi-kundgebung-zur-sol
 idarisierung-mit-den-freiheitskaempfenden-im-iran/
SUMMARY:Jin* Jiyan Azadi - Kundgebung zur Solidarisierung mit den Freiheits
 kämpfenden im Iran
DESCRIPTION:Am Samstag versammeln wir uns erneut zur Solidarisierung mit de
 n Freiheitskämpfenden im Iran.\nKundgebung am 15.02.2025\, Start um 12:00
  Uhr\, am Ernst-August-Platz\, Hannover.
ATTACH;FMTTYPE=image/jpeg:https://rauszeit-termine.org/wp-content/uploads/
 2025/02/Jin-Jiyan-Azadi.jpg
CATEGORIES:Kundgebung
LOCATION:Ernst-August-Platz\, Ernst-August-Platz\, Hannover\, Deutschland
X-APPLE-STRUCTURED-LOCATION;VALUE=URI;X-ADDRESS=Ernst-August-Platz\, Hannov
 er\, Deutschland;X-APPLE-RADIUS=100;X-TITLE=Ernst-August-Platz:geo:0,0
END:VEVENT
BEGIN:VTIMEZONE
TZID:Europe/Berlin
X-LIC-LOCATION:Europe/Berlin
BEGIN:STANDARD
DTSTART:20241027T020000
TZOFFSETFROM:+0200
TZOFFSETTO:+0100
TZNAME:CET
END:STANDARD
END:VTIMEZONE
END:VCALENDAR