BEGIN:VCALENDAR
VERSION:2.0
PRODID:-//wp-events-plugin.com//7.2.3.1//EN
TZID:Europe/Berlin
X-WR-TIMEZONE:Europe/Berlin
BEGIN:VEVENT
UID:154475@rauszeit-termine.org
DTSTART;TZID=Europe/Berlin:20260411T110000
DTEND;TZID=Europe/Berlin:20260412T230000
DTSTAMP:20260226T141028Z
URL:https://rauszeit-termine.org/events/janun-festival/
SUMMARY:JA!NUN festival
DESCRIPTION:Am 11.-12.4.2026 wird es wieder ein JA!NUN festival geben! Dies
 mal auf dem Platzprojekt in Hannover. Das Motto ist „Solidarität“. Di
 e Planungen im offenen Orga-Team sind in vollem Gange. Das JA!NUN festival
  ist eine bunte Mischung aus Worshops\, Rahmenprogramm\, wie Siebdruck\, K
 reativecke etc und einem musikalischem Abendprogramm. Mehr Infos dazu find
 est du auf unserer Website.\nMelde dich an zum Festival\, damit wir dich f
 ür Essen und Workshops einplanen können.\nDu hast Lust einen Trailer zu 
 drehen\, Deko zu gestalten oder Barschichten zu koordinieren? Dann werde T
 eil des wundervollen Planungsteams! Wir treffen uns aktuell alle 1-2 Woche
 n am Mittwoch digital. Schreib eine Mail an festival@janun.de\, um dabei z
 u sein.
ATTACH;FMTTYPE=image/jpeg:https://rauszeit-termine.org/wp-content/uploads/
 2026/02/JANUN_festival_2026_Design.width-1000.format-jpeg.jpg
CATEGORIES:Austausch,Festival,Kennenlernen,Konzert,KüfA - Küche für
 Alle,Tablequiz,Workshop
LOCATION:Platzprojekt\, Fössestraße 103\, Hannover\, Deutschland
X-APPLE-STRUCTURED-LOCATION;VALUE=URI;X-ADDRESS=Fössestraße 103\, Hannove
 r\, Deutschland;X-APPLE-RADIUS=100;X-TITLE=Platzprojekt:geo:0,0
END:VEVENT
BEGIN:VTIMEZONE
TZID:Europe/Berlin
X-LIC-LOCATION:Europe/Berlin
BEGIN:DAYLIGHT
DTSTART:20260329T030000
TZOFFSETFROM:+0100
TZOFFSETTO:+0200
TZNAME:CEST
END:DAYLIGHT
END:VTIMEZONE
END:VCALENDAR