BEGIN:VCALENDAR
VERSION:2.0
PRODID:-//wp-events-plugin.com//7.2.3.1//EN
TZID:Europe/Berlin
X-WR-TIMEZONE:Europe/Berlin
BEGIN:VEVENT
UID:150141@rauszeit-termine.org
DTSTART;TZID=Europe/Berlin:20250919T200000
DTEND;TZID=Europe/Berlin:20250920T010000
DTSTAMP:20250908T152755Z
URL:https://rauszeit-termine.org/events/jaari-deutsch-seltsam/
SUMMARY:JaaRi / Deutsch &amp\; Seltsam
DESCRIPTION:KonzertJAARI + DEUTSCH &amp\; SELTSAMFreitag\, 19. September 20
 25Einlass ab 19:30 Uhr Vereinsgaststätte SV Arminia Bischofsholer Damm 
 119\, Hannover Haltestelle: Kinderkrankenhaus Auf der Bult (Stadtbahnlini
 e 6)Kein Eintritt\, der Hut geht rum!JAARIZwischen Indierock der frühen 9
 0er\, mit der Düsterheit der 80er\, auf jeden Fall irgendwo zwischen Alte
 rnative\, Noise und Pop. Vergleiche sucht man bei JaaRi\, dem Trio aus ein
 em Berliner Parkhaus händeringend\, kommt aber immer wieder auf ein Ergeb
 nis: Sie klingen unverschämt frisch und modern\, auch wenn ein Teil der m
 usikalischen Einflüsse aus einer anderen\, längst verloren gegangenen Ze
 it kommen. Gitarrist Patrick gründete mit Drummer Maik und Bassistin Anna
 \, aus Genua stammend im April 2016 das neue Lieblingsspielzeug JaaRi. Die
  Band fackelte nicht nicht lange\, sondern nahm sofort ein Demo sowie eine
  Studio EP auf und hinterließ mit diversen Auftritten in Berlin &amp\; Ha
 mburg in diesem Jahr sogleich ihre Spuren.Man merkt deutlich\, dass alle i
 hre musikalischen Ideen einbringen\, die die drei Exil-Berliner in zahlrei
 chen Bands sammeln konnten. Treibende Hooks\, wilde Wechsel\, donnernde No
 isewände\, choraler Gesang aller drei\, wütende Ausbrüche - das sind Ja
 aRi. JaaRi wollen niemandem um jeden Preis gefallen oder etwas beweisen\, 
 stattdessen machen sie genau das worauf sie Lust haben. Kompromisslos. Sie
  haben Spaß auf der Bühne und lassen es krachen.https://jaari.bandcamp.c
 om/album/hakuna-massakerDEUTSCH &amp\; SELTSAMDeutschpunk trifft auf selts
 ame Ideen und mitunter experimentelle Klänge. Vier Menschen machen Krach 
 gegen alles was stört\, nervt oder anderweitig irgendwie oder irgendwo da
 zu führt\, dass die Welt vor die Hunde geht. Das Ergebnis: märchenhafte 
 Traumwelten\, in denen Schneewittchen\, Rumpelstilzchen\, Puppenspieler un
 d vielleicht auch die Hunde des Systems mit Rakete auf den Point of no Ret
 urn zusteuern\, wo dann mit Verspätung endlich alles gut wird. Oder auch 
 nicht. Kommt\, staunt und tanzt!https://deutschundseltsam.de/
ATTACH;FMTTYPE=image/jpeg:https://rauszeit-termine.org/wp-content/uploads/
 2025/09/JAARI.png
CATEGORIES:Konzert
LOCATION:SV Arminia Hannover (Vereinskneipe)\, Bischofsholer Damm 119\, Han
 nover\, Niedersachsen\, 30173\, Deutschland
X-APPLE-STRUCTURED-LOCATION;VALUE=URI;X-ADDRESS=Bischofsholer Damm 119\, Ha
 nnover\, Niedersachsen\, 30173\, Deutschland;X-APPLE-RADIUS=100;X-TITLE=SV
  Arminia Hannover (Vereinskneipe):geo:0,0
END:VEVENT
BEGIN:VTIMEZONE
TZID:Europe/Berlin
X-LIC-LOCATION:Europe/Berlin
BEGIN:DAYLIGHT
DTSTART:20250330T030000
TZOFFSETFROM:+0100
TZOFFSETTO:+0200
TZNAME:CEST
END:DAYLIGHT
END:VTIMEZONE
END:VCALENDAR