BEGIN:VCALENDAR
VERSION:2.0
PRODID:-//wp-events-plugin.com//7.2.3.1//EN
TZID:Europe/Berlin
X-WR-TIMEZONE:Europe/Berlin
BEGIN:VEVENT
UID:6878@rauszeit-termine.org
DTSTART:20201006T170000Z
DTEND:20201006T203000Z
DTSTAMP:20201002T061221Z
URL:https://rauszeit-termine.org/events/ist-diese-ruine-selbstorganisiert/
SUMMARY:Ist diese Ruine selbstorganisiert?
DESCRIPTION:am Dienstag 6.Oktober ab 19h stellt sich das ruine hq zusammen 
 mit Stephan Dillemuth im GROßEN Raum in der Zukunftswerkstatt im Ihme-Zen
 trum unter anderem die Frage:\n\nIst diese Ruine selbstorganisiert?\n\nAls
  Grundlage dienen zwei Texte (link\, link)\, beide von Jakob Jakobsen\, An
 thony Davies und SD zur Zukunft der Selbstorganisation in 2005 und 2012\, 
 von dort aus stellen sich weitere Fragen:\nBankencrash 2008!?\nCorona-Kris
 e!?\nFinanzkrise!?\n...und das Klima kackt auch noch ab!?\nRassismus an al
 len Orten\, Nazis ebenso\, Polizei und Militär unterwandert – aber nich
 t von der Antifa!\nInstitutionen gelähmt?!\nBevölkerung paralysiert oder
  durchgeknallt!?\nNeustart Kultur in der Kunstwelt?!\nWurden die Dystopien
  bisher auf eine Ursache zurückgeführt\, so verdichten sich zur Zeit ver
 schiedene Stränge auf ungute Weise … und wir schauen zu!? WTF!? oder LO
 L?!\nPrösterchen to TEOTFW!? Wer kommen mag\, das Glas zu erheben sei her
 zlich eingeladen?!\n&#x1f47f\;    Angry Face With Horns    U+1F47F 
    &amp\;#128127\n&#x1f911\;    Money-Mouth Face    U+1F911    
 &amp\;#129297\n&#x2620\;    Skull And Crossbones    U+2620    &am
 p\;#9760\n&#x1f4a9\;    Pile Of Poo    U+1F4A9    &amp\;#128169\n
 &#x1f921\;    Clown Face    U+1F921    &amp\;#129313\n\nNee\, im 
 Ernst: Was tun!? ... die alte Frage sei neu gestellt\, im Licht der neuen 
 Zukunft\, die da so schnell am Horizont aufscheint.\nDienstag 6.Oktober\, 
 19h\ndiesmal nicht im ruine hq im Nachbarschaftsladen des KÖ20\, sondern 
 im GROßEN Raum in der Zukunftswerkstatt im Ihme-Zentrum\, Ihmeplatz 7e\, 
 30449 Hannover\nbitte gerne vorher anmelden &gt\;&gt\;&gt\; ruinehq.org
LOCATION:ruine hq\, Ihmeplatz 7e\, Hannover\, 30449\, Deutschland
X-APPLE-STRUCTURED-LOCATION;VALUE=URI;X-ADDRESS=Ihmeplatz 7e\, Hannover\, 3
 0449\, Deutschland;X-APPLE-RADIUS=100;X-TITLE=ruine hq:geo:0,0
END:VEVENT
END:VCALENDAR