BEGIN:VCALENDAR
VERSION:2.0
PRODID:-//wp-events-plugin.com//7.2.3.1//EN
TZID:Europe/Berlin
X-WR-TIMEZONE:Europe/Berlin
BEGIN:VEVENT
UID:12462@rauszeit-termine.org
DTSTART;TZID=Europe/Berlin:20240718T180000
DTEND;TZID=Europe/Berlin:20240718T210000
DTSTAMP:20240701T200840Z
URL:https://rauszeit-termine.org/events/intimate-queer-playgrounds-present
 /
SUMMARY:Intimate Queer Playgrounds present
DESCRIPTION:Turtle Touch - Slow Embodied Pleasure Work/Playshop 4 Queers\n\
 nEnglish below.\n\nDE\n\nWann? 18. Juli 2024 von 18 - 21 Uhr\n\nWo? wird n
 och mitgeteilt\n\nOffen für Queer Bodies ab 18 Jahre \n\nLangsam wie eine
  Schildkröte bewegen wir uns auf die Ränder unserer Komfortzonen zu: aus
  Neugier und Reiselust\, um unsere eigenen Grenzen zu erweitern.\n\nSlow E
 mbodied Pleasure bedeutet ein langsames\, gemeinsames Ankommen und Heranta
 sten\, an das\, was wir wollen\, was uns gut tut\, was wir mit Blicken und
  Berührung miteinander teilen wollen. Wir forschen mit Selbstberührung u
 nd Möglichkeiten achtsam und genussvoll miteinander in Kontakt zu kommen.
  Dabei geht es nicht um sexuelle Erregung sondern den genussvollen Kontakt
  mit sich selbst und anderen Körpern.\n\nMit spielerischen Methoden und d
 er Einladung\, sich etwas neues zuzutrauen bewegen wir uns aus unseren Sch
 ildrötenpanzern heraus.\n\nDieser Work/Playshop ist ein sex-positiver spa
 ce insofern\, dass alle Sexualitäten auf dem Spektrum eingeladen sind - a
 uch Menschen\, die sich auf dem Ace-Spektrum verorten\, sind ausdrücklich
  eingeladen. Dieser Work/Playshop ist kein explizit sexueller Raum. Alle T
 eilnehmenden sind zu allen Zeiten bekleidet. Es wird Awareness-Vereinbarun
 gen für den Space geben\, auf die sich alle Teilnehmenden mit der Anmeldu
 ng verbindlich einlassen.\n\nDie Teilnahme ist für euch kostenlos. Der Wo
 rkshop kann auf deutscher und englischer Lautsprache stattfinden.\n\nBarri
 ereinfos zum Raum folgen\n\nAnmeldung über den Link: https://tinyurl.com/
 turtletouch\nWeitere Infos gibt es nach der Anmeldung!\n\nBringt Care und 
 Curiosity mit!\n\nMehr Infos hier:\nWebsite: https://queerpunkt.de/nah-wor
 kshops/\nInstagram: @open_closet_hannover\n\nEN\n\nWhen: July 18\, 2024 f
 rom 6 - 9 p.m.\n\nWhere? will be announced\n\nOpen to queer bodies aged 18
  and over \n\nSlowly\, like a turtle\, we move towards the edges of our co
 mfort zones: out of curiosity and wanderlust\, to expand our own boundarie
 s.\n\nSlow Embodied Pleasure means a slow\, shared approach and feeling ou
 r way towards what we want\, what is good for us\, what we want to share w
 ith each other through our gaze and touch. We explore self-touch and ways 
 to come into contact with each other in a mindful and pleasurable way. Thi
 s is not about sexual arousal but about pleasurable contact with ourselves
  and other bodies.\n\nWith playful methods and the invitation to dare to d
 o something new\, we move out of our shells.\n\nThis work/playshop is a se
 x-positive space in the sense that all sexualities on the spectrum are inv
 ited - people who locate themselves on the ace-spectrum are expressly invi
 ted. This work/playshop is not an explicitly sexual space. All participant
 s are clothed at all times. There will be awareness agreements for the spa
 ce\, which all participants agree to with their registration.\n\nParticipa
 tion is free of charge. The workshop can be held in German and English.\n\
 nAccessibility information about the space will follow\n\nRegistration via
  the link: https://tinyurl.com/turtletouch\nFurther information will be av
 ailable after registration!\n\nCome with Care and Curiosity!\n\nMore infor
 mations:\nWebsite: https://queerpunkt.de/nah-workshops/\nInstagram: @open
 _closet_hannover
CATEGORIES:LGBT*I*Q,Safer Space,Seminar,Workshop
END:VEVENT
BEGIN:VTIMEZONE
TZID:Europe/Berlin
X-LIC-LOCATION:Europe/Berlin
BEGIN:DAYLIGHT
DTSTART:20240331T030000
TZOFFSETFROM:+0100
TZOFFSETTO:+0200
TZNAME:CEST
END:DAYLIGHT
END:VTIMEZONE
END:VCALENDAR