BEGIN:VCALENDAR
VERSION:2.0
PRODID:-//wp-events-plugin.com//7.2.3.1//EN
TZID:Europe/Berlin
X-WR-TIMEZONE:Europe/Berlin
BEGIN:VEVENT
UID:15275@rauszeit-termine.org
DTSTART;TZID=Europe/Berlin:20250322T113000
DTEND;TZID=Europe/Berlin:20250322T113000
DTSTAMP:20250321T163038Z
URL:https://rauszeit-termine.org/events/international-gegen-rassismus-und-
 faschismus/
SUMMARY:International gegen Rassismus und Faschismus
DESCRIPTION:Internationaler Tag gegen Rassismus ✊\n\nAm 22.03.2025 stehen
  wir gemeinsam auf und gehen zusammen auf die Straße – lasst uns sichtb
 ar und solidarisch sein!\n\nSetz auch du ein Zeichen gegen Rassismus und F
 aschismus und für die Menschlichkeit – komm zum Spaziergang durch Hanno
 ver! \n\nStartpunkt: Ernst-August-Platz\, 11:30 Uhr \nSei dabei\, wir sind
  viele!
ATTACH;FMTTYPE=image/jpeg:https://rauszeit-termine.org/wp-content/uploads/
 2025/03/igruf.jpg
CATEGORIES:Demo
LOCATION:Ernst-August-Platz\, Ernst-August-Platz\, Hannover\, Deutschland
X-APPLE-STRUCTURED-LOCATION;VALUE=URI;X-ADDRESS=Ernst-August-Platz\, Hannov
 er\, Deutschland;X-APPLE-RADIUS=100;X-TITLE=Ernst-August-Platz:geo:0,0
END:VEVENT
BEGIN:VTIMEZONE
TZID:Europe/Berlin
X-LIC-LOCATION:Europe/Berlin
BEGIN:STANDARD
DTSTART:20241027T020000
TZOFFSETFROM:+0200
TZOFFSETTO:+0100
TZNAME:CET
END:STANDARD
END:VTIMEZONE
END:VCALENDAR