BEGIN:VCALENDAR
VERSION:2.0
PRODID:-//wp-events-plugin.com//7.2.3.1//EN
TZID:Europe/Berlin
X-WR-TIMEZONE:Europe/Berlin
BEGIN:VEVENT
UID:12473@rauszeit-termine.org
DTSTART;TZID=Europe/Berlin:20250125T090000
DTEND;TZID=Europe/Berlin:20250126T113000
DTSTAMP:20240908T160822Z
URL:https://rauszeit-termine.org/events/infolaedchen-coppenbruegge-2025-01
 -25/
SUMMARY:Infolädchen Coppenbrügge
DESCRIPTION:Im Infolädchen Coppenbrügge hast du die Möglichkeit nette Me
 nschen zu treffen und dich über Themen wie z.B. Antifaschismus\, Antirass
 ismus\, Antisexismus\, Anarchosyndikalismus\, Anarchismus\, solidarische 
 Ökonomie\, Antimilitarismus\, Klimawandel\, Antiatom zu informieren und a
 uszutauschen. Wir haben Zeitschriften und Zeitungen\, Bücher\, Aufkleber
 …. Außerdem umfasst der Infoladen eine kleine Bücherei und ein Archiv.
  Über dein kommen freuen wir uns sehr. Am letzten Samstag im Monat und ge
 rne nach Absprache.
ATTACH;FMTTYPE=image/jpeg:https://rauszeit-termine.org/wp-content/uploads/
 2024/03/buecherregal-cc.png
CATEGORIES:Sonstiges
LOCATION:Infolädchen Coppenbrügge\, Steinbrink 4\, Coppenbrügge\, 31863\
 , Deutschland
X-APPLE-STRUCTURED-LOCATION;VALUE=URI;X-ADDRESS=Steinbrink 4\, Coppenbrügg
 e\, 31863\, Deutschland;X-APPLE-RADIUS=100;X-TITLE=Infolädchen Coppenbrü
 gge:geo:0,0
END:VEVENT
BEGIN:VTIMEZONE
TZID:Europe/Berlin
X-LIC-LOCATION:Europe/Berlin
BEGIN:STANDARD
DTSTART:20241027T020000
TZOFFSETFROM:+0200
TZOFFSETTO:+0100
TZNAME:CET
END:STANDARD
END:VTIMEZONE
END:VCALENDAR