BEGIN:VCALENDAR
VERSION:2.0
PRODID:-//wp-events-plugin.com//7.2.3.1//EN
TZID:Europe/Berlin
X-WR-TIMEZONE:Europe/Berlin
BEGIN:VEVENT
UID:154144@rauszeit-termine.org
DTSTART;TZID=Europe/Berlin:20270320T100000
DTEND;TZID=Europe/Berlin:20270321T110000
DTSTAMP:20260204T081526Z
URL:https://rauszeit-termine.org/events/infoladen-2027-03-20/
SUMMARY:Infoladen
DESCRIPTION:Infolädchen Coppenbrügge\nInfoladen und Archiv (lokaler) link
 sradikaler Politik\nEin Ort des solidarischen Miteinanders und der Vernetz
 ung und Zusammenarbeit.\nFür eine solidarische befreite Gesellschaft. Geg
 en Kapitalismus\, Sexismus\, Rassismus\, Antisemitismus\, Obdachlosenfeind
 lichkeit Ableismus...\nGeöffnet jeden 3. Samstag im Monat um 10 Uhr. Gern
 e nach Absprache. Meldet Euch vorher bei uns :\nlibertaeres-soli-kollektiv
 @riseup.net\nauch Zwegs Wegbeschreibung\, Kontakt...
CATEGORIES:Ausstellung,Sonstiges
END:VEVENT
BEGIN:VTIMEZONE
TZID:Europe/Berlin
X-LIC-LOCATION:Europe/Berlin
BEGIN:STANDARD
DTSTART:20261025T020000
TZOFFSETFROM:+0200
TZOFFSETTO:+0100
TZNAME:CET
END:STANDARD
END:VTIMEZONE
END:VCALENDAR