BEGIN:VCALENDAR
VERSION:2.0
PRODID:-//wp-events-plugin.com//7.2.3.1//EN
TZID:Europe/Berlin
X-WR-TIMEZONE:Europe/Berlin
BEGIN:VEVENT
UID:7022@rauszeit-termine.org
DTSTART:20210121T173000Z
DTEND:20210121T190000Z
DTSTAMP:20210105T225244Z
URL:https://rauszeit-termine.org/events/infoabend-sozial-oekologisches-woh
 nprojekt-jawa-stellt-sich-vor-2/
SUMMARY:Infoabend: Sozial-ökologisches Wohnprojekt JAWA stellt sich vor
DESCRIPTION:Die Baugemeinschaft JAWA (Jung und Alt am Wasser) wird in der W
 asserstadt Limmer auf einer Fläche von 4525 m² ca. 50 Eigentums-und Miet
 wohnungen errichten. Zurzeit läuft ein bundesweiter Architektenwettbewerb
  mit fünf Büros\, die geeignete Entwurfsideen liefern sollen\, wie die g
 eplante Wohnanlage aussehen kann. Damit nimmt das sozial-ökologische Proj
 ekt nach langem Vorlauf nun konkrete Formen an.\n\nInteressierte für die 
 noch in Planung befindlichen Eigentumswohnungen sollten sich baldmöglich 
 über die Seite www.jawa-hannover.de informieren und zu digitalen Infoaben
 den anmelden.\n\nTermine: 21.01.\, 04.02.\, 18.02.\, 25.02. jeweils 19.30 
 h.Anmeldung unter info@jawa-limmer.de
LOCATION:https://www.jawa-hannover.de/aktuelles/
END:VEVENT
END:VCALENDAR