BEGIN:VCALENDAR
VERSION:2.0
PRODID:-//wp-events-plugin.com//7.2.3.1//EN
TZID:Europe/Berlin
X-WR-TIMEZONE:Europe/Berlin
BEGIN:VEVENT
UID:6699@rauszeit-termine.org
DTSTART:20200218T163000Z
DTEND:20200218T190000Z
DTSTAMP:20200217T120519Z
URL:https://rauszeit-termine.org/events/info-veranstaltung-zur-demo-am-int
 ernationalen-frauenkampftag/
SUMMARY:Info-Veranstaltung zur Demo am internationalen Frauen*kampftag
DESCRIPTION:Am 08. März ist internationaler Frauen*kampftag. Auch in Hanno
 ver gehen wir an diesem Tag für die Abschaffung des Patriarchats auf die 
 Straße und demonstrieren gegen eine Gesellschaft in der Menschen unterdr
 ückt\, ausgebeutet und diskriminiert werden.\n\nMit dieser Veranstaltung 
 möchten wir interessierte Menschen einladen\, sich über die geplante Dem
 onstration und dazugehörige Veranstaltungen zu informieren sowie ihnen di
 e Möglichkeit geben Fragen zu stellen.\n\nDie vielfältigen Missstände\,
  die wir anprangern\, treffen eine breite Bevölkerungsschicht\, die wir s
 ehr gerne repräsentieren möchten. Darum ist es uns wichtig Menschen alle
 r Altersgruppen\, aus unterschiedlichsten Umfeldern\, Lebenssituationen\, 
 Berufsgruppen zusammen zu bringen.\n\nDer 08. März steht nun seit 99 Jahr
 en für Feminismus und das betrifft uns alle.\n\nWir freuen uns sehr auf e
 uch!\n\nGemeinsam für den Feminismus!\n#femstreikhannover #patriarchatent
 larven #8M2020\n\nLink zur Demo: https://www.facebook.com/events/275058970
 1728949/
CATEGORIES:Infoveranstaltung
LOCATION:Kulturzentrum Pavillon\, Lister Meile 4\, Hannover\, 30161\, Deuts
 chland
X-APPLE-STRUCTURED-LOCATION;VALUE=URI;X-ADDRESS=Lister Meile 4\, Hannover\,
  30161\, Deutschland;X-APPLE-RADIUS=100;X-TITLE=Kulturzentrum Pavillon:geo
 :0,0
END:VEVENT
END:VCALENDAR