BEGIN:VCALENDAR
VERSION:2.0
PRODID:-//wp-events-plugin.com//7.2.3.1//EN
TZID:Europe/Berlin
X-WR-TIMEZONE:Europe/Berlin
BEGIN:VEVENT
UID:7006@rauszeit-termine.org
DTSTART:20201217T170000Z
DTEND:20201217T190000Z
DTSTAMP:20201208T121019Z
URL:https://rauszeit-termine.org/events/incels-geschichte-sprache-und-ideo
 logie-eines-online-kults/
SUMMARY:Incels. Geschichte\, Sprache und Ideologie eines Online-Kults
DESCRIPTION:Veronika Kracher: Buchvorstellung "Incels. Geschichte\, Sprache
  und Ideologie eines Online-Kults" am 17.12. um 19 Uhr
CATEGORIES:Lesung/Buchvorstellung
END:VEVENT
END:VCALENDAR