BEGIN:VCALENDAR
VERSION:2.0
PRODID:-//wp-events-plugin.com//7.2.3.1//EN
TZID:Europe/Berlin
X-WR-TIMEZONE:Europe/Berlin
BEGIN:VEVENT
UID:7012@rauszeit-termine.org
DTSTART:20201217T190000Z
DTEND:20201217T210000Z
DTSTAMP:20201216T152625Z
URL:https://rauszeit-termine.org/events/incels-geschichte-sprache-und-ideo
 logie-eines-online-kults-2/
SUMMARY:Incels. Geschichte\, Sprache und Ideologie eines Online-Kults
DESCRIPTION:***Online Veranstaltung - Zugang über: https://zoom.us/j/92954
 585485 ***\n\nBevor Alek Minassian im April 2018 mit einem Auto in eine Me
 nschenmenge in Toronto raste und zehn Menschen ermordete\, hinterließ er 
 auf Facebook folgende Nachricht: »The Incel rebellion has already begun! 
 All hail the Supreme Gentleman Elliot Rodger!«. Elliot Rodger hatte 2014 
 auf dem Campus der Universität von Kalifornien in Santa Barbara sechs Men
 schen getötet und 13 weitere verletzt. Er hinterließ ein über hundert S
 eiten langes Manifest\, in dem er seine Taten begründete: Sie seien ein R
 acheakt gegen Frauen\, die ihm Liebe und Sex verweigert und demzufolge den
  Tod verdient hätten.\nDies sind nicht die einzigen explizit gegen Frauen
  gerichteten Attentate\, die von sogenannten »Incels« verübt worden sin
 d. »Incels« ist die Kurzform für »Involuntary Celibates« – unfreiwi
 llig im Zölibat Lebende. Sie treffen sich in Onlineforen und auf Imageboa
 rds und lamentieren darüber\, keinen Sex zu haben\, obwohl dieser ein nat
 urgegebenes männliches Grundrecht sei. Im mildesten Falle artikuliert sic
 h ihr Denken in Depressionen und Selbstmitleid\, im schlimmsten Falle in d
 er Glorifizierung von Kindesmissbrauch\, sexueller Gewalt oder dem Femizid
 . Incels sind jedoch keine »schwarzen Schafe« oder »Ausnahmeerscheinung
 en« innerhalb der kapitalistisch-patriarchalen Verhältnisse\, sondern Au
 sdruck einer Gesellschaft\, in der die Abwertung des Weiblichen an der Tag
 esordnung ist.\nObwohl Incels schon zahlreiche Gewalt- und Terrorakte bega
 ngen haben\, wird das Phänomen gerade im deutschsprachigen Raum bisher nu
 r sehr oberflächlich analysiert. Dieses Buch\, das die Geschichte der Bew
 egung nachzeichnet\, die Memes und Sprache der Incels erklärt\, ihre Ideo
 logie analysiert und eine sozialpsychologische Auseinandersetzung mit dies
 em Online-Kult anstrebt\, wird diese Lücke füllen.
END:VEVENT
END:VCALENDAR