BEGIN:VCALENDAR
VERSION:2.0
PRODID:-//wp-events-plugin.com//7.2.3.1//EN
TZID:Europe/Berlin
X-WR-TIMEZONE:Europe/Berlin
BEGIN:VEVENT
UID:14727@rauszeit-termine.org
DTSTART;TZID=Europe/Berlin:20250322T180000
DTEND;TZID=Europe/Berlin:20250322T180000
DTSTAMP:20250312T202341Z
URL:https://rauszeit-termine.org/events/hoffnung-oder-gefahr-autoritaere-k
 ommunistinnen-in-der-radikalen-linken/
SUMMARY:Hoffnung oder Gefahr? Autoritäre Kommunist*innen in der radikalen 
 Linken
DESCRIPTION:Hoffnung oder Gefahr? Autoritäre Kommunist*innen in der radika
 len Linken — 22.03.2025\, 18.00 Uhr\, Elchkeller (Achtung: Neuer Ort!) \
 n\nVorweg: wir wollen nicht über- sondern miteinander reden! Also traut e
 uch und kommt vorbei\, egal ob ihr euch zu der eher autoriären oder der a
 ntiautoritären Linken zugehörig fühlt.\n\nSie sind oft gut organisiert\
 , haben viel Zulauf\, sind diszipliert und erreichen breitere Teile der Ju
 gend als die klassische Jugendantifa. So bezeichnete “autoritäre kommun
 istische Gruppen“ nehmen wieder mehr Platz in der radikalen Linken ein a
 ls noch vor einigen Jahren - gut so? Gefährlich? oder einfach ein Ausdruc
 k gesamtgesellschaftlicher Tendenzen und daher "normal"? \n\nWir wollen ge
 meinsam darüber sprechen\, wo die Konfliktlinien verlaufen\, auf welche W
 idersprüche oder Widerstände wir stoßen. Wir wollen uns aber auch annä
 hern\, verstehen und uns  wo wir Gemeinsamkeiten finden und aufeinander zu
 gehen können.\n___________________________\n\n…Du hast noch nichts vom 
 Format gehört?\n\nMit LINKs UP! wollen wir einen Raum schaffen\, in dem l
 inks politisierte Menschen\, unabhängig eigener Ausrichtungen und Gruppen
 zugehörigkeiten (oder Nicht-Zugehörigkeiten) miteinander ergebnisoffen u
 nd kontrovers diskutieren. In dem mensch das Risiko eingehen kann etwas 
 „Falsches“ zu sagen oder sich mit einer Meinung auch mal unwohl zu fü
 hlen. Einen Raum\, in dem wir einander trotz aller Verschiedenheiten Inter
 esse und Bedeutung schenken.\n\nWir hoffen mit dem Format zu einer solidar
 ischen Streitkultur beizutragen bzw. diese erst aufzubauen\, denn seien wi
 r ehrlich\, nur wenn wir kollektiv miteinander reden\, streiten und Widers
 prüche aushalten – anstatt wie aktuell im Privaten zu meckern\, zu läs
 tern oder sich gleich zu entsolidarisieren – können wir gesellschaftlic
 h Einfluss gewinnen.\n\n
ATTACH;FMTTYPE=image/jpeg:https://rauszeit-termine.org/wp-content/uploads/
 2025/03/links-up-1.webp
CATEGORIES:Diskussion
LOCATION:Elchkeller\, Schneiderberg 50\, Hannover\, Deutschland
X-APPLE-STRUCTURED-LOCATION;VALUE=URI;X-ADDRESS=Schneiderberg 50\, Hannover
 \, Deutschland;X-APPLE-RADIUS=100;X-TITLE=Elchkeller:geo:0,0
END:VEVENT
BEGIN:VTIMEZONE
TZID:Europe/Berlin
X-LIC-LOCATION:Europe/Berlin
BEGIN:STANDARD
DTSTART:20241027T020000
TZOFFSETFROM:+0200
TZOFFSETTO:+0100
TZNAME:CET
END:STANDARD
END:VTIMEZONE
END:VCALENDAR