BEGIN:VCALENDAR
VERSION:2.0
PRODID:-//wp-events-plugin.com//7.2.3.1//EN
TZID:Europe/Berlin
X-WR-TIMEZONE:Europe/Berlin
BEGIN:VEVENT
UID:14585@rauszeit-termine.org
DTSTART;TZID=Europe/Berlin:20250307T190000
DTEND;TZID=Europe/Berlin:20250307T210000
DTSTAMP:20250224T200032Z
URL:https://rauszeit-termine.org/events/her-mit-dem-schoenen-leben-vortrag
 -und-gespraech-zur-geschichte-und-gegenwart-der-pariser-kommune/
SUMMARY:Her mit dem schönen Leben! Vortrag und Gespräch zur Geschichte un
 d Gegenwart der Pariser Kommune
DESCRIPTION:Am 18. März 1871 floh die französische Regierung vor der bewa
 ffneten Macht der Pariser Arbeiterinnen und Arbeiter nach Versailles. In d
 en folgenden Wochen entwickelten sich Grundzüge eines sozialistischen Gem
 einwesens\, das als Pariser Kommune in die Geschichte einging und von dem 
 Karl Marx schrieb\, es sei die endlich gefundene Form\, in der sich die Be
 freiung der Arbeit vollziehen könne. Die Pariser Kommune lebte von einer 
 weitgehenden Anbindung politischer Entscheidungen an die Basis der Bevölk
 erung. Die Kommunard*innen diskutierten dabei auch immer wieder die Frage\
 , wie ein gutes Leben für alle Menschen umzusetzen sei.Der Historiker Flo
 rian Grams gibt einen Überblick über die Geschichte und Ideenwelt der Pa
 riser Kommune. Im anschließenden Gespräch stellen wir gemeinsam Fragen n
 ach der Aktualität des Kommune-Erbes und möglichen Potenzialen für heut
 ige Kämpfe.\n \nFlorian Grams ist Historiker. Über die Pariser Kommune 
 hat er das Buch „Basiswissen Pariser Kommune“ geschrieben. Seine Arbei
 tsschwerpunkte sind die Geschichte der Arbeiterbewegung\, der Pädagogik u
 nd die Geschichte eugenischer Diskurse. Er engagiert sich in der selbstbes
 timmten Behindertenbewegung.\n \nEine Veranstaltung von Rote Hilfe e.V.\n
  \nEintritt frei\, Suppe auf Spendenbasis
ATTACH;FMTTYPE=image/jpeg:https://rauszeit-termine.org/wp-content/uploads/
 2025/02/commune2.jpg
CATEGORIES:Diskussion,Vortrag
LOCATION:Quartiertheater Hannover\, Kornstraße 31\, Hannover\, 30167\, Deu
 tschland
X-APPLE-STRUCTURED-LOCATION;VALUE=URI;X-ADDRESS=Kornstraße 31\, Hannover\,
  30167\, Deutschland;X-APPLE-RADIUS=100;X-TITLE=Quartiertheater Hannover:g
 eo:0,0
END:VEVENT
BEGIN:VTIMEZONE
TZID:Europe/Berlin
X-LIC-LOCATION:Europe/Berlin
BEGIN:STANDARD
DTSTART:20241027T020000
TZOFFSETFROM:+0200
TZOFFSETTO:+0100
TZNAME:CET
END:STANDARD
END:VTIMEZONE
END:VCALENDAR