BEGIN:VCALENDAR
VERSION:2.0
PRODID:-//wp-events-plugin.com//7.2.3.1//EN
TZID:Europe/Berlin
X-WR-TIMEZONE:Europe/Berlin
BEGIN:VEVENT
UID:150505@rauszeit-termine.org
DTSTART;TZID=Europe/Berlin:20251005T180000
DTEND;TZID=Europe/Berlin:20251005T210000
DTSTAMP:20251001T104523Z
URL:https://rauszeit-termine.org/events/head-of-the-baptist-miasmic-serum-
 mt-dagger/
SUMMARY:Head Of The Baptist | MIASMIC SERUM | Mt. Dagger
DESCRIPTION:A CRUSTPUNX IN LOVE show\n05.10.25 | Stumpf | Doors 18:00\nHead
  of the Baptist\nDeath Metal / Crust | Belgium\nhttps://headofthebaptist.b
 andcamp.com/album/the-pyre-of-equivalence\n&nbsp\;\nMiasmic Serum\nDeath M
 etal | Italy\nhttps://miasmicserum.bandcamp.com\n&nbsp\;\nMt. Dagger\nHC P
 unk | Berlin\nhttps://mountdagger.bandcamp.com/album/demo-mmxxiii
ATTACH;FMTTYPE=image/jpeg:https://rauszeit-termine.org/wp-content/uploads/
 2025/09/Head-Of-The-Baptist-MIASMIC-SERUM-Mt.-Dagger.webp
CATEGORIES:Konzert
LOCATION:Stumpf\, Welfengarten 2c\, Hannover\, Niedersachsen\, 30167\, Deut
 schland
X-APPLE-STRUCTURED-LOCATION;VALUE=URI;X-ADDRESS=Welfengarten 2c\, Hannover\
 , Niedersachsen\, 30167\, Deutschland;X-APPLE-RADIUS=100;X-TITLE=Stumpf:ge
 o:0,0
END:VEVENT
BEGIN:VTIMEZONE
TZID:Europe/Berlin
X-LIC-LOCATION:Europe/Berlin
BEGIN:DAYLIGHT
DTSTART:20250330T030000
TZOFFSETFROM:+0100
TZOFFSETTO:+0200
TZNAME:CEST
END:DAYLIGHT
END:VTIMEZONE
END:VCALENDAR