BEGIN:VCALENDAR
VERSION:2.0
PRODID:-//wp-events-plugin.com//7.2.3.1//EN
TZID:Europe/Berlin
X-WR-TIMEZONE:Europe/Berlin
BEGIN:VEVENT
UID:6834@rauszeit-termine.org
DTSTART:20200724T140000Z
DTEND:20200724T140000Z
DTSTAMP:20200716T195041Z
URL:https://rauszeit-termine.org/events/halim-dener-gefoltert-gefluechtet-
 verboten-erschossen-2/
SUMMARY:Halim Dener - Gefoltert. Geflüchtet. Verboten. Erschossen.
DESCRIPTION:Das Buch handelt von einem 16-jährigen Jugendlichen\, der 1994
  aufgrund von Kolonisation und Verfolgung gegen die kurdische Bevölkerung
  aus Nord-Kurdistan nach Deutschland fliehen musste. Er floh an einen Ort\
 , an dem er noch im selben Jahr durch die Kugel eines SEK-Beamten getötet
  wurde. Das Buch dokumentiert die Geschehnisse und politischen Aktivitäte
 n seit jener Zeit. Damit wird zum einen ein würdevolles Gedenken an Halim
  geschaffen und zum anderen ein Beitrag zur Bedeutung von Erinnerungskultu
 r\, Protest und Widerstand geleistet.\n\nDas Buch widmet sich sowohl dem T
 od Halim Deners 1994 und den darauffolgenden Reaktionen\, als auch einer R
 eflexion der politischen Arbeit der "Kampagne Halim Dener".\n\nDie "Kampag
 ne Halim Dener" lädt zur öffentlichen Buchvorstellung auf dem Halim-Dene
 r-Platz. Durch die Veranstaltung führt Hanna Legatis.\n\nIn Gedenken an a
 lle Menschen\, die Schutz vor Krieg und Gewalt gesucht haben und Opfer von
  Fremdenhass und staatlicher Gewalt geworden sind.\n\nMehr Infos: http://h
 alimdener.blogsport.eu
CATEGORIES:Diskussion
END:VEVENT
END:VCALENDAR