BEGIN:VCALENDAR
VERSION:2.0
PRODID:-//wp-events-plugin.com//7.2.3.1//EN
TZID:Europe/Berlin
X-WR-TIMEZONE:Europe/Berlin
BEGIN:VEVENT
UID:12438@rauszeit-termine.org
DTSTART;TZID=Europe/Berlin:20240707T130000
DTEND;TZID=Europe/Berlin:20240707T154000
DTSTAMP:20240615T141244Z
URL:https://rauszeit-termine.org/events/gripsholm-fragmente-2/
SUMMARY:GRIPSHOLM.FRAGMENTE
DESCRIPTION:performativer Audiowalk mit Picknick / outdoor im Georgengarten
CATEGORIES:Sonstiges
LOCATION:Georgengarte Hannover\, Georgengarten\, Hannover\, 30167\, Deutsch
 land
X-APPLE-STRUCTURED-LOCATION;VALUE=URI;X-ADDRESS=Georgengarten\, Hannover\, 
 30167\, Deutschland;X-APPLE-RADIUS=100;X-TITLE=Georgengarte Hannover:geo:0
 ,0
END:VEVENT
BEGIN:VTIMEZONE
TZID:Europe/Berlin
X-LIC-LOCATION:Europe/Berlin
BEGIN:DAYLIGHT
DTSTART:20240331T030000
TZOFFSETFROM:+0100
TZOFFSETTO:+0200
TZNAME:CEST
END:DAYLIGHT
END:VTIMEZONE
END:VCALENDAR