BEGIN:VCALENDAR
VERSION:2.0
PRODID:-//wp-events-plugin.com//7.2.3.1//EN
TZID:Europe/Berlin
X-WR-TIMEZONE:Europe/Berlin
BEGIN:VEVENT
UID:13653@rauszeit-termine.org
DTSTART;TZID=Europe/Berlin:20241025T200000
DTEND;TZID=Europe/Berlin:20241025T234500
DTSTAMP:20240924T105220Z
URL:https://rauszeit-termine.org/events/gordan/
SUMMARY:GORDAN
DESCRIPTION:“Gripping\, like something ancient being born" -- The Wire\n
 “The connection between folk and improvised music\, between traditional 
 song and electric noise has been tried in recent years\, but rarely as int
 ensively and interestingly.” – Rolling Stone (Germany)\nThis self-titl
 ed 2nd album from this acclaimed transnational (Serbia/Germany/Austria) ex
 perimental trio\, fuses traditional Balkan vocalizations with feedback\, e
 lectronic sound generators\, pulsing bass and hypnotic drumming.\nGordan m
 irror the mysticism of legends and stories from the Balkan region\, creati
 ng a music that stretches between expressiveness and abstraction\; traditi
 on and the avant-garde. The visceral vocals of Svetlana Spajic (Marina Abr
 amovic\, Robert Wilson\, Antony and the Johnsons) are both rooted and deep
 ly interpretive. In turn\, drummer Andi Stecher (STECHER\, Billy Bultheel\
 , Orchestre Les Mangelepa) and Guido Möbius on bass and electronics\, emp
 loy sonic strategies that steer the songs in inspired and unpredictable di
 rections.
ATTACH;FMTTYPE=image/jpeg:https://rauszeit-termine.org/wp-content/uploads/
 2024/09/Gordan-by-Christoph-Voy-700kl.jpg
CATEGORIES:Konzert
LOCATION:SV Arminia Hannover (Vereinskneipe)\, Bischofsholer Damm 119\, Han
 nover\, Niedersachsen\, 30173\, Deutschland
X-APPLE-STRUCTURED-LOCATION;VALUE=URI;X-ADDRESS=Bischofsholer Damm 119\, Ha
 nnover\, Niedersachsen\, 30173\, Deutschland;X-APPLE-RADIUS=100;X-TITLE=SV
  Arminia Hannover (Vereinskneipe):geo:0,0
END:VEVENT
BEGIN:VTIMEZONE
TZID:Europe/Berlin
X-LIC-LOCATION:Europe/Berlin
BEGIN:DAYLIGHT
DTSTART:20240331T030000
TZOFFSETFROM:+0100
TZOFFSETTO:+0200
TZNAME:CEST
END:DAYLIGHT
END:VTIMEZONE
END:VCALENDAR