BEGIN:VCALENDAR
VERSION:2.0
PRODID:-//wp-events-plugin.com//7.2.3.1//EN
TZID:Europe/Berlin
X-WR-TIMEZONE:Europe/Berlin
BEGIN:VEVENT
UID:6732@rauszeit-termine.org
DTSTART:20200316T170000Z
DTEND:20200316T170000Z
DTSTAMP:20200309T072512Z
URL:https://rauszeit-termine.org/events/geschlechtervielfalt-und-queer-fem
 inistische-perspektiven/
SUMMARY:Geschlechtervielfalt und queer - feministische Perspektiven
DESCRIPTION:Wie neu ist Geschlechtervielfalt? Christine Klapeer wirft einen
  historischen Blick auf die Genese von Zweigeschlechtlichkeit und zeichnet
  die Geschichte einer politischen und rechtlichen Vereindeutigung von Gesc
 hlecht/ervielfalt nach. Aktuell werden geschlechtliche und sexuelle Vielfa
 lt jedoch vor allem in Bezug auf LGBTIQ-Lebensweisen thematisiert. Diese G
 leichsetzung läuft Gefahr\, Norm und Abweichung als Kategorien aufrechtzu
 erhalten und die alle betreffende\, alltägliche Geschlechternormierung zu
  verschleiern. Wie lässt sich Viel-falt von der Vielfalt her denken - als
  eine Betrachtung und (feministische) Verantwortung für jede*n? Christine
  Klapeer spricht über den Nutzen produktiver Verunsicherung und bietet ei
 nen Ausblick auf das Verhältnis von Geschlechtervielfalt\, queeren Perspe
 ktiven und feministischer Politik.
CATEGORIES:Diskussion,Vortrag
LOCATION:Frauenzentrum Laatzen\, Hildesheimer Straße 85\, Laatzen\, 30880\
 , Deutschland
X-APPLE-STRUCTURED-LOCATION;VALUE=URI;X-ADDRESS=Hildesheimer Straße 85\, L
 aatzen\, 30880\, Deutschland;X-APPLE-RADIUS=100;X-TITLE=Frauenzentrum Laat
 zen:geo:0,0
END:VEVENT
END:VCALENDAR