BEGIN:VCALENDAR
VERSION:2.0
PRODID:-//wp-events-plugin.com//7.2.3.1//EN
TZID:Europe/Berlin
X-WR-TIMEZONE:Europe/Berlin
BEGIN:VEVENT
UID:14086@rauszeit-termine.org
DTSTART;TZID=Europe/Berlin:20250125T120000
DTEND;TZID=Europe/Berlin:20250125T120000
DTSTAMP:20250105T203337Z
URL:https://rauszeit-termine.org/events/geschichte-israels-und-palaestinas
 -teil-1-entstehung-des-zionismus-bis-zur-staatsgruendung-israels/
SUMMARY:Geschichte Israels und Palästinas (Teil 1): Entstehung des Zionism
 us bis zur Staatsgründung Israels
DESCRIPTION:In zwei Tagesworkshops beschäftigen wir uns mit der Geschichte
  Israels und Palästinas. Der erste fokussiert sich auf die Zeit vor der S
 taatsgründung Israels 1948 und der zweite auf die Zeit danach.\nDie Works
 hops sind kostenlos und für Einsteiger*innen geeignet.\n\nTeil 1: Entsteh
 ung des Zionismus bis zur Staatsgründung Israels\nDieser Workshop ist gee
 ignet für Einsteiger*innen. Mit verschiedenen Quellen verschaffen wir uns
  einen Überblick über die Ereignisse von der Entstehung des Zionismus in
  Europa\, Palästina unter Besatzung Großbritanniens\, den Holocaust bis 
 zur Staatsgründung Israels 1948.\nWir werden mit einem großen Zeitstrahl
  arbeiten.\n\nTeil 2: Staatsgründung Israels bis heute\nDie Teilnahme an 
 diesem Workshop ist auch ohne den Besuch des ersten Workshops möglich\, w
 ir empfehlen aber Vorkenntnisse.\nWir blicken auf die Geschichte ab 1948 a
 nhand diverser Quellen aus unterschiedlichen Perspektiven über Ereignisse
  vom ersten Arabisch-Israelischen Krieg\, den Friedensbemühungen in den 1
 990er Jahren bis zum Überfall der Hamas auf Israel am 07. Oktober 2023.\n
 \nAnmeldung: -> Link zur Anmeldung
ATTACH;FMTTYPE=image/jpeg:https://rauszeit-termine.org/wp-content/uploads/
 2025/01/wzgiup_0.jpg
CATEGORIES:Workshop
LOCATION:SJD - Die Falken Hannover\, Allerweg 7d (Innenhof/ 1. Etage)\, Han
 nover\, Deutschland\, 30449\, Niedersachsen\, Deutschland
X-APPLE-STRUCTURED-LOCATION;VALUE=URI;X-ADDRESS=Allerweg 7d (Innenhof/ 1. E
 tage)\, Hannover\, Deutschland\, 30449\, Niedersachsen\, Deutschland;X-APP
 LE-RADIUS=100;X-TITLE=SJD - Die Falken Hannover:geo:0,0
END:VEVENT
BEGIN:VTIMEZONE
TZID:Europe/Berlin
X-LIC-LOCATION:Europe/Berlin
BEGIN:STANDARD
DTSTART:20241027T020000
TZOFFSETFROM:+0200
TZOFFSETTO:+0100
TZNAME:CET
END:STANDARD
END:VTIMEZONE
END:VCALENDAR